FILENAME: O4810954.SES.1115677.tif
QUADRANGLE_NAME: CORRIGAN MOUNTAIN
QUADRANT: SE
WEST_LONGITUDE: -109 18 45.00000
EAST_LONGITUDE: -109 15 0.00000
NORTH_LATITUDE: 48 11 15.00000
SOUTH_LATITUDE: 48 7 30.00000
PRODUCTION_DATE: 2000 11 10
RASTER_ORDER: LEFT_RIGHT/TOP_BOTTOM
BAND_ORGANIZATION: SINGLE FILE
BAND_CONTENT: BLACK&WHITE
BAND_CONTENT: UNDEFINED
BAND_CONTENT: UNDEFINED
BITS_PER_PIXEL: 8
SAMPLES_AND_LINES: 5461 7656
HORIZONTAL_DATUM: NAD83
HORIZONTAL_COORDINATE_SYSTEM: UTM
COORDINATE_ZONE: 12
HORIZONTAL_UNITS: METERS
HORIZONTAL_RESOLUTION: 1.00000
SECONDARY_HORIZONTAL_DATUM: NAD27
XY_ORIGIN: 625065.00000 5338922.00000
SECONDARY_XY_ORIGIN: 625123.54800 5338705.42000
NATION: US
NATION: "SCIENCE
STATE: MT
NW_QUAD_CORNER_XY: 625421.11100 5338517.21000
NE_QUAD_CORNER_XY: 630066.18100 5338621.09700
SE_QUAD_CORNERY_XY: 630224.28800 5331674.64500
SW_QUAD_CORNER_XY: 625573.56900 5331570.73300
SECONDARY_NW_QUAD_XY: 625425.07300 5338298.33200
SECONDARY_NE_QUAD_XY: 630070.29000 5338402.22300
SECONDARY_SE_QUAD_XY: 630228.39700 5331455.78300
SECONDARY_SW_QUAD_XY: 625577.53100 5331351.86800
RMSE_XY: 2.60000
IMAGE_SOURCE: BLACK AND WHITE FILM
SOURCE_IMAGE_ID: NAPP 9163 028
SOURCE_IMAGE_DATE: 1998 07 23
SOURCE_IMAGE_ID: NAPP 9163 029
SOURCE_IMAGE_DATE: 1998 07 23
SOURCE_IMAGE_ID: NAPP 9156 021
SOURCE_IMAGE_DATE: 1997 08 29
SOURCE_DEM_DATE: 1987 00 00
AGENCY: WESTERN MAPPING CENTER (WMC)
PRODUCER: UNDEFINED
PRODUCTION_SYSTEM: GIS/MAGIC
COMPRESSION: UNDEFINED
STANDARD_VERSION: 1996 12
METADATA_DATE: 2000 11 10
DATA_FILE_SIZE: 41814877
BYTE_COUNT: 5461
