FILENAME: O4810953.SES.1119818.tif
QUADRANGLE_NAME: MADDUX
QUADRANT: SE
WEST_LONGITUDE: -109 26 15.00000
EAST_LONGITUDE: -109 22 30.00000
NORTH_LATITUDE: 48 11 15.00000
SOUTH_LATITUDE: 48 7 30.00000
PRODUCTION_DATE: 2000 10 17
RASTER_ORDER: LEFT_RIGHT/TOP_BOTTOM
BAND_ORGANIZATION: SINGLE FILE
BAND_CONTENT: BLACK&WHITE
BAND_CONTENT: UNDEFINED
BAND_CONTENT: UNDEFINED
BITS_PER_PIXEL: 8
SAMPLES_AND_LINES: 5450 7649
HORIZONTAL_DATUM: NAD83
HORIZONTAL_COORDINATE_SYSTEM: UTM
COORDINATE_ZONE: 12
HORIZONTAL_UNITS: METERS
HORIZONTAL_RESOLUTION: 1.00000
SECONDARY_HORIZONTAL_DATUM: NAD27
XY_ORIGIN: 615774.00000 5338718.00000
SECONDARY_XY_ORIGIN: 615832.75900 5338501.36800
NATION: US
NATION: "SCIENCE
STATE: MT
NW_QUAD_CORNER_XY: 616130.92200 5338320.77400
NE_QUAD_CORNER_XY: 620776.02400 5338417.10300
SE_QUAD_CORNERY_XY: 620922.83300 5331470.60100
SW_QUAD_CORNER_XY: 616272.08100 5331374.25000
SECONDARY_NW_QUAD_XY: 616134.59100 5338101.89000
SECONDARY_NE_QUAD_XY: 620779.84000 5338198.22100
SECONDARY_SE_QUAD_XY: 620926.64800 5331251.73300
SECONDARY_SW_QUAD_XY: 616275.75000 5331155.37900
RMSE_XY: 2.30000
IMAGE_SOURCE: BLACK AND WHITE FILM
SOURCE_IMAGE_ID: NAPP 9156 138
SOURCE_IMAGE_DATE: 1997 08 29
SOURCE_IMAGE_ID: NAPP 9156 139
SOURCE_IMAGE_DATE: 1997 08 29
SOURCE_DEM_DATE: 1987 00 00
AGENCY: WESTERN MAPPING CENTER (WMC)
PRODUCER: UNDEFINED
PRODUCTION_SYSTEM: GIS/MAGIC
COMPRESSION: UNDEFINED
STANDARD_VERSION: 1996 12
METADATA_DATE: 2000 11 09
DATA_FILE_SIZE: 41692500
BYTE_COUNT: 5450
