FILENAME: O4810952.NES.1119781.tif
QUADRANGLE_NAME: BIG JOHN BUTTE
QUADRANT: NE
WEST_LONGITUDE: -109 33 45.00000
EAST_LONGITUDE: -109 30 0.00000
NORTH_LATITUDE: 48 15 0.00000
SOUTH_LATITUDE: 48 11 15.00000
PRODUCTION_DATE: 2000 10 25
RASTER_ORDER: LEFT_RIGHT/TOP_BOTTOM
BAND_ORGANIZATION: SINGLE FILE
BAND_CONTENT: BLACK&WHITE
BAND_CONTENT: UNDEFINED
BAND_CONTENT: UNDEFINED
BITS_PER_PIXEL: 8
SAMPLES_AND_LINES: 5433 7640
HORIZONTAL_DATUM: NAD83
HORIZONTAL_COORDINATE_SYSTEM: UTM
COORDINATE_ZONE: 12
HORIZONTAL_UNITS: METERS
HORIZONTAL_RESOLUTION: 1.00000
SECONDARY_HORIZONTAL_DATUM: NAD27
XY_ORIGIN: 606354.00000 5345475.00000
SECONDARY_XY_ORIGIN: 606412.91100 5345258.16300
NATION: US
NATION: "SCIENCE
STATE: MT
NW_QUAD_CORNER_XY: 606710.68100 5345086.09300
NE_QUAD_CORNER_XY: 611350.15900 5345174.84200
SE_QUAD_CORNERY_XY: 611485.80400 5338228.22500
SW_QUAD_CORNER_XY: 606840.67200 5338139.45500
SECONDARY_NW_QUAD_XY: 606714.05600 5344867.19100
SECONDARY_NE_QUAD_XY: 611353.68200 5344955.94300
SECONDARY_SE_QUAD_XY: 611489.32600 5338009.33800
SECONDARY_SW_QUAD_XY: 606844.04700 5337920.56500
RMSE_XY: 1.90000
IMAGE_SOURCE: BLACK AND WHITE FILM
SOURCE_IMAGE_ID: NAPP 9159 094
SOURCE_IMAGE_DATE: 1997 09 22
SOURCE_IMAGE_ID: NAPP 9159 158
SOURCE_IMAGE_DATE: 1997 09 22
SOURCE_IMAGE_ID: NAPP 9159 093
SOURCE_IMAGE_DATE: 1997 09 22
SOURCE_DEM_DATE: 1975 00 00
AGENCY: WESTERN MAPPING CENTER (WMC)
PRODUCER: UNDEFINED
PRODUCTION_SYSTEM: GIS/MAGIC
COMPRESSION: UNDEFINED
STANDARD_VERSION: 1996 12
METADATA_DATE: 2000 11 30
DATA_FILE_SIZE: 41513553
BYTE_COUNT: 5433
