FILENAME: O4810951.NES.1119729.tif
QUADRANGLE_NAME: BOWERY PEAK
QUADRANT: NE
WEST_LONGITUDE: -109 41 15.00000
EAST_LONGITUDE: -109 37 30.00000
NORTH_LATITUDE: 48 15 0.00000
SOUTH_LATITUDE: 48 11 15.00000
PRODUCTION_DATE: 2000 10 25
RASTER_ORDER: LEFT_RIGHT/TOP_BOTTOM
BAND_ORGANIZATION: SINGLE FILE
BAND_CONTENT: BLACK&WHITE
BAND_CONTENT: UNDEFINED
BAND_CONTENT: UNDEFINED
BITS_PER_PIXEL: 8
SAMPLES_AND_LINES: 5423 7634
HORIZONTAL_DATUM: NAD83
HORIZONTAL_COORDINATE_SYSTEM: UTM
COORDINATE_ZONE: 12
HORIZONTAL_UNITS: METERS
HORIZONTAL_RESOLUTION: 1.00000
SECONDARY_HORIZONTAL_DATUM: NAD27
XY_ORIGIN: 597074.00000 5345302.00000
SECONDARY_XY_ORIGIN: 597133.01100 5345085.23200
NATION: US
NATION: "SCIENCE
STATE: MT
NW_QUAD_CORNER_XY: 597431.68200 5344919.92900
NE_QUAD_CORNER_XY: 602071.18800 5345001.12200
SE_QUAD_CORNERY_XY: 602195.52500 5338054.46300
SW_QUAD_CORNER_XY: 597550.36600 5337973.25000
SECONDARY_NW_QUAD_XY: 597434.76400 5344701.02200
SECONDARY_NE_QUAD_XY: 602074.41700 5344782.21800
SECONDARY_SE_QUAD_XY: 602198.75400 5337835.57000
SECONDARY_SW_QUAD_XY: 597553.44700 5337754.35500
RMSE_XY: 2.60000
IMAGE_SOURCE: BLACK AND WHITE FILM
SOURCE_IMAGE_ID: NAPP 9159 210
SOURCE_IMAGE_DATE: 1997 09 22
SOURCE_IMAGE_ID: NAPP 9160 084
SOURCE_IMAGE_DATE: 1997 09 23
SOURCE_IMAGE_ID: NAPP 9159 211
SOURCE_IMAGE_DATE: 1997 09 22
SOURCE_IMAGE_ID: NAPP 9159 209
SOURCE_IMAGE_DATE: 1997 09 22
SOURCE_IMAGE_ID: NAPP 9159 157
SOURCE_IMAGE_DATE: 1997 09 22
SOURCE_DEM_DATE: 1975 00 00
AGENCY: WESTERN MAPPING CENTER (WMC)
PRODUCER: UNDEFINED
PRODUCTION_SYSTEM: GIS/MAGIC
COMPRESSION: UNDEFINED
STANDARD_VERSION: 1996 12
METADATA_DATE: 2000 11 30
DATA_FILE_SIZE: 41404605
BYTE_COUNT: 5423
