FILENAME: O4810951.NWS.1119730.tif
QUADRANGLE_NAME: BOWERY PEAK
QUADRANT: NW
WEST_LONGITUDE: -109 45 0.00000
EAST_LONGITUDE: -109 41 15.00000
NORTH_LATITUDE: 48 15 0.00000
SOUTH_LATITUDE: 48 11 15.00000
PRODUCTION_DATE: 2000 10 25
RASTER_ORDER: LEFT_RIGHT/TOP_BOTTOM
BAND_ORGANIZATION: SINGLE FILE
BAND_CONTENT: BLACK&WHITE
BAND_CONTENT: UNDEFINED
BAND_CONTENT: UNDEFINED
BITS_PER_PIXEL: 8
SAMPLES_AND_LINES: 5417 7629
HORIZONTAL_DATUM: NAD83
HORIZONTAL_COORDINATE_SYSTEM: UTM
COORDINATE_ZONE: 12
HORIZONTAL_UNITS: METERS
HORIZONTAL_RESOLUTION: 1.00000
SECONDARY_HORIZONTAL_DATUM: NAD27
XY_ORIGIN: 592435.00000 5345220.00000
SECONDARY_XY_ORIGIN: 592494.06200 5345003.26700
NATION: US
NATION: "SCIENCE
STATE: MT
NW_QUAD_CORNER_XY: 592792.16300 5344842.51300
NE_QUAD_CORNER_XY: 597431.68200 5344919.92900
SE_QUAD_CORNERY_XY: 597550.36600 5337973.25000
SW_QUAD_CORNER_XY: 592905.19300 5337895.81500
SECONDARY_NW_QUAD_XY: 592795.09800 5344623.60400
SECONDARY_NE_QUAD_XY: 597434.76400 5344701.02200
SECONDARY_SE_QUAD_XY: 597553.44700 5337754.35500
SECONDARY_SW_QUAD_XY: 592908.12800 5337676.91800
RMSE_XY: 3.30000
IMAGE_SOURCE: BLACK AND WHITE FILM
SOURCE_IMAGE_ID: NAPP 9160 085
SOURCE_IMAGE_DATE: 1997 09 23
SOURCE_IMAGE_ID: NAPP 9160 084
SOURCE_IMAGE_DATE: 1997 09 23
SOURCE_DEM_DATE: 1975 00 00
AGENCY: WESTERN MAPPING CENTER (WMC)
PRODUCER: UNDEFINED
PRODUCTION_SYSTEM: GIS/MAGIC
COMPRESSION: UNDEFINED
STANDARD_VERSION: 1996 12
METADATA_DATE: 2000 11 30
DATA_FILE_SIZE: 41331710
BYTE_COUNT: 5417
