FILENAME: O4810951.SWS.1119732.tif
QUADRANGLE_NAME: BOWERY PEAK
QUADRANT: SW
WEST_LONGITUDE: -109 45 0.00000
EAST_LONGITUDE: -109 41 15.00000
NORTH_LATITUDE: 48 11 15.00000
SOUTH_LATITUDE: 48 7 30.00000
PRODUCTION_DATE: 2000 10 25
RASTER_ORDER: LEFT_RIGHT/TOP_BOTTOM
BAND_ORGANIZATION: SINGLE FILE
BAND_CONTENT: BLACK&WHITE
BAND_CONTENT: UNDEFINED
BAND_CONTENT: UNDEFINED
BITS_PER_PIXEL: 8
SAMPLES_AND_LINES: 5422 7630
HORIZONTAL_DATUM: NAD83
HORIZONTAL_COORDINATE_SYSTEM: UTM
COORDINATE_ZONE: 12
HORIZONTAL_UNITS: METERS
HORIZONTAL_RESOLUTION: 1.00000
SECONDARY_HORIZONTAL_DATUM: NAD27
XY_ORIGIN: 592548.00000 5338274.00000
SECONDARY_XY_ORIGIN: 592607.02400 5338057.47800
NATION: US
NATION: "SCIENCE
STATE: MT
NW_QUAD_CORNER_XY: 592905.19300 5337895.81500
NE_QUAD_CORNER_XY: 597550.36600 5337973.25000
SE_QUAD_CORNERY_XY: 597668.93200 5331026.64300
SW_QUAD_CORNER_XY: 593018.11200 5330949.19000
SECONDARY_NW_QUAD_XY: 592908.12800 5337676.91800
SECONDARY_NE_QUAD_XY: 597553.44700 5337754.35500
SECONDARY_SE_QUAD_XY: 597672.01400 5330807.76100
SECONDARY_SW_QUAD_XY: 593021.04700 5330730.30500
RMSE_XY: 3.40000
IMAGE_SOURCE: BLACK AND WHITE FILM
SOURCE_IMAGE_ID: NAPP 9160 087
SOURCE_IMAGE_DATE: 1997 09 23
SOURCE_DEM_DATE: 1975 00 00
AGENCY: WESTERN MAPPING CENTER (WMC)
PRODUCER: UNDEFINED
PRODUCTION_SYSTEM: GIS/MAGIC
COMPRESSION: UNDEFINED
STANDARD_VERSION: 1996 12
METADATA_DATE: 2000 11 30
DATA_FILE_SIZE: 41375282
BYTE_COUNT: 5422
