FILENAME: O4810950.NES.1115160.tif
QUADRANGLE_NAME: CENTENNIAL MOUNTAIN
QUADRANT: NE
WEST_LONGITUDE: -109 48 45.00000
EAST_LONGITUDE: -109 45 0.00000
NORTH_LATITUDE: 48 15 0.00000
SOUTH_LATITUDE: 48 11 15.00000
PRODUCTION_DATE: 2000 10 25
RASTER_ORDER: LEFT_RIGHT/TOP_BOTTOM
BAND_ORGANIZATION: SINGLE FILE
BAND_CONTENT: BLACK&WHITE
BAND_CONTENT: UNDEFINED
BAND_CONTENT: UNDEFINED
BITS_PER_PIXEL: 8
SAMPLES_AND_LINES: 5412 7626
HORIZONTAL_DATUM: NAD83
HORIZONTAL_COORDINATE_SYSTEM: UTM
COORDINATE_ZONE: 12
HORIZONTAL_UNITS: METERS
HORIZONTAL_RESOLUTION: 1.00000
SECONDARY_HORIZONTAL_DATUM: NAD27
XY_ORIGIN: 587795.00000 5345143.00000
SECONDARY_XY_ORIGIN: 587854.02600 5344926.35200
NATION: US
NATION: "SCIENCE
STATE: MT
NW_QUAD_CORNER_XY: 588152.63100 5344768.87500
NE_QUAD_CORNER_XY: 592792.16300 5344842.51300
SE_QUAD_CORNERY_XY: 592905.19300 5337895.81500
SW_QUAD_CORNER_XY: 588260.00800 5337822.15900
SECONDARY_NW_QUAD_XY: 588155.41900 5344549.96300
SECONDARY_NE_QUAD_XY: 592795.09800 5344623.60400
SECONDARY_SE_QUAD_XY: 592908.12800 5337676.91800
SECONDARY_SW_QUAD_XY: 588262.79700 5337603.25900
RMSE_XY: 1.70000
IMAGE_SOURCE: BLACK AND WHITE FILM
SOURCE_IMAGE_ID: NAPP 9160 041
SOURCE_IMAGE_DATE: 1997 09 23
SOURCE_IMAGE_ID: NAPP 9160 085
SOURCE_IMAGE_DATE: 1997 09 23
SOURCE_DEM_DATE: 1975 00 00
AGENCY: WESTERN MAPPING CENTER (WMC)
PRODUCER: UNDEFINED
PRODUCTION_SYSTEM: GIS/MAGIC
COMPRESSION: UNDEFINED
STANDARD_VERSION: 1996 12
METADATA_DATE: 2000 11 09
DATA_FILE_SIZE: 41277324
BYTE_COUNT: 5412
