FILENAME: O4810950.NWS.1115161.tif
QUADRANGLE_NAME: CENTENNIAL MOUNTAIN
QUADRANT: NW
WEST_LONGITUDE: -109 52 30.00000
EAST_LONGITUDE: -109 48 45.00000
NORTH_LATITUDE: 48 15 0.00000
SOUTH_LATITUDE: 48 11 15.00000
PRODUCTION_DATE: 2000 10 25
RASTER_ORDER: LEFT_RIGHT/TOP_BOTTOM
BAND_ORGANIZATION: SINGLE FILE
BAND_CONTENT: BLACK&WHITE
BAND_CONTENT: UNDEFINED
BAND_CONTENT: UNDEFINED
BITS_PER_PIXEL: 8
SAMPLES_AND_LINES: 5407 7622
HORIZONTAL_DATUM: NAD83
HORIZONTAL_COORDINATE_SYSTEM: UTM
COORDINATE_ZONE: 12
HORIZONTAL_UNITS: METERS
HORIZONTAL_RESOLUTION: 1.00000
SECONDARY_HORIZONTAL_DATUM: NAD27
XY_ORIGIN: 583155.00000 5345069.00000
SECONDARY_XY_ORIGIN: 583213.99200 5344852.43500
NATION: US
NATION: "SCIENCE
STATE: MT
NW_QUAD_CORNER_XY: 583513.08700 5344699.01400
NE_QUAD_CORNER_XY: 588152.63100 5344768.87500
SE_QUAD_CORNERY_XY: 588260.00800 5337822.15900
SW_QUAD_CORNER_XY: 583614.81200 5337752.28100
SECONDARY_NW_QUAD_XY: 583515.72900 5344480.10000
SECONDARY_NE_QUAD_XY: 588155.41900 5344549.96300
SECONDARY_SE_QUAD_XY: 588262.79700 5337603.25900
SECONDARY_SW_QUAD_XY: 583617.45400 5337533.37900
RMSE_XY: 1.80000
IMAGE_SOURCE: BLACK AND WHITE FILM
SOURCE_IMAGE_ID: NAPP 9160 030
SOURCE_IMAGE_DATE: 1997 09 23
SOURCE_IMAGE_ID: NAPP 9160 029
SOURCE_IMAGE_DATE: 1997 09 23
SOURCE_DEM_DATE: 1975 00 00
AGENCY: WESTERN MAPPING CENTER (WMC)
PRODUCER: UNDEFINED
PRODUCTION_SYSTEM: GIS/MAGIC
COMPRESSION: UNDEFINED
STANDARD_VERSION: 1996 12
METADATA_DATE: 2000 11 09
DATA_FILE_SIZE: 41217561
BYTE_COUNT: 5407
