FILENAME: O4810949.SES.1080057.tif
QUADRANGLE_NAME: TABLE BUTTE
QUADRANT: SE
WEST_LONGITUDE: -109 56 15.00000
EAST_LONGITUDE: -109 52 30.00000
NORTH_LATITUDE: 48 11 15.00000
SOUTH_LATITUDE: 48 7 30.00000
PRODUCTION_DATE: 2000 6 1
RASTER_ORDER: LEFT_RIGHT/TOP_BOTTOM
BAND_ORGANIZATION: SINGLE FILE
BAND_CONTENT: BLACK&WHITE
BAND_CONTENT: UNDEFINED
BAND_CONTENT: UNDEFINED
BITS_PER_PIXEL: 8
SAMPLES_AND_LINES: 5406 7619
HORIZONTAL_DATUM: NAD83
HORIZONTAL_COORDINATE_SYSTEM: UTM
COORDINATE_ZONE: 12
HORIZONTAL_UNITS: METERS
HORIZONTAL_RESOLUTION: 1.00000
SECONDARY_HORIZONTAL_DATUM: NAD27
XY_ORIGIN: 578612.00000 5338053.00000
SECONDARY_XY_ORIGIN: 578670.92800 5337836.72100
NATION: US
NATION: "SCIENCE
STATE: MT
NW_QUAD_CORNER_XY: 578969.60500 5337686.18100
NE_QUAD_CORNER_XY: 583614.81200 5337752.28100
SE_QUAD_CORNERY_XY: 583716.43700 5330805.62100
SW_QUAD_CORNER_XY: 579065.58300 5330739.50600
SECONDARY_NW_QUAD_XY: 578972.10000 5337467.27700
SECONDARY_NE_QUAD_XY: 583617.45400 5337533.37900
SECONDARY_SE_QUAD_XY: 583719.07800 5330586.73200
SECONDARY_SW_QUAD_XY: 579068.07700 5330520.61400
RMSE_XY: 1.10000
IMAGE_SOURCE: BLACK AND WHITE FILM
SOURCE_IMAGE_ID: NAPP 9128 251
SOURCE_IMAGE_DATE: 1996 07 29
SOURCE_IMAGE_ID: NAPP 9128 252
SOURCE_IMAGE_DATE: 1996 07 29
SOURCE_DEM_DATE: 1975 00 00
AGENCY: WESTERN MAPPING CENTER (WMC)
PRODUCER: UNDEFINED
PRODUCTION_SYSTEM: GIS/MAGIC
COMPRESSION: UNDEFINED
STANDARD_VERSION: 1996 12
METADATA_DATE: 2000 06 12
DATA_FILE_SIZE: 41193720
BYTE_COUNT: 5406
