FILENAME: O4810949.SWS.1080058.tif
QUADRANGLE_NAME: TABLE BUTTE
QUADRANT: SW
WEST_LONGITUDE: -110 0 0.00000
EAST_LONGITUDE: -109 56 15.00000
NORTH_LATITUDE: 48 11 15.00000
SOUTH_LATITUDE: 48 7 30.00000
PRODUCTION_DATE: 2000 6 1
RASTER_ORDER: LEFT_RIGHT/TOP_BOTTOM
BAND_ORGANIZATION: SINGLE FILE
BAND_CONTENT: BLACK&WHITE
BAND_CONTENT: UNDEFINED
BAND_CONTENT: UNDEFINED
BITS_PER_PIXEL: 8
SAMPLES_AND_LINES: 5401 7615
HORIZONTAL_DATUM: NAD83
HORIZONTAL_COORDINATE_SYSTEM: UTM
COORDINATE_ZONE: 12
HORIZONTAL_UNITS: METERS
HORIZONTAL_RESOLUTION: 1.00000
SECONDARY_HORIZONTAL_DATUM: NAD27
XY_ORIGIN: 573966.00000 5337987.00000
SECONDARY_XY_ORIGIN: 574024.89600 5337770.80100
NATION: US
NATION: "SCIENCE
STATE: MT
NW_QUAD_CORNER_XY: 574324.38800 5337623.85900
NE_QUAD_CORNER_XY: 578969.60500 5337686.18100
SE_QUAD_CORNERY_XY: 579065.58300 5330739.50600
SW_QUAD_CORNER_XY: 574414.71800 5330677.16800
SECONDARY_NW_QUAD_XY: 574326.73600 5337404.95200
SECONDARY_NE_QUAD_XY: 578972.10000 5337467.27700
SECONDARY_SE_QUAD_XY: 579068.07700 5330520.61400
SECONDARY_SW_QUAD_XY: 574417.06600 5330458.27500
RMSE_XY: 1.30000
IMAGE_SOURCE: BLACK AND WHITE FILM
SOURCE_IMAGE_ID: NAPP 9158 023
SOURCE_IMAGE_DATE: 1997 09 04
SOURCE_IMAGE_ID: NAPP 9178 209
SOURCE_IMAGE_DATE: 1997 09 04
SOURCE_DEM_DATE: 1975 00 00
AGENCY: WESTERN MAPPING CENTER (WMC)
PRODUCER: UNDEFINED
PRODUCTION_SYSTEM: GIS/MAGIC
COMPRESSION: UNDEFINED
STANDARD_VERSION: 1996 12
METADATA_DATE: 2000 06 12
DATA_FILE_SIZE: 41134016
BYTE_COUNT: 5401
