FILENAME: O4810948.SES.1115737.tif
QUADRANGLE_NAME: MILES BUTTE
QUADRANT: SE
WEST_LONGITUDE: -109 3 45.00000
EAST_LONGITUDE: -109 0 0.00000
NORTH_LATITUDE: 48 18 45.00000
SOUTH_LATITUDE: 48 15 0.00000
PRODUCTION_DATE: 2000 10 30
RASTER_ORDER: LEFT_RIGHT/TOP_BOTTOM
BAND_ORGANIZATION: SINGLE FILE
BAND_CONTENT: BLACK&WHITE
BAND_CONTENT: UNDEFINED
BAND_CONTENT: UNDEFINED
BITS_PER_PIXEL: 8
SAMPLES_AND_LINES: 5472 7671
HORIZONTAL_DATUM: NAD83
HORIZONTAL_COORDINATE_SYSTEM: UTM
COORDINATE_ZONE: 12
HORIZONTAL_UNITS: METERS
HORIZONTAL_RESOLUTION: 1.00000
SECONDARY_HORIZONTAL_DATUM: NAD27
XY_ORIGIN: 643295.00000 5353268.00000
SECONDARY_XY_ORIGIN: 643353.25400 5353051.19400
NATION: US
NATION: "SCIENCE
STATE: MT
NW_QUAD_CORNER_XY: 643650.65500 5352848.38500
NE_QUAD_CORNER_XY: 648284.33500 5352967.33400
SE_QUAD_CORNERY_XY: 648465.40000 5346020.85700
SW_QUAD_CORNER_XY: 643826.05800 5345901.87800
SECONDARY_NW_QUAD_XY: 643655.20500 5352629.49900
SECONDARY_NE_QUAD_XY: 648289.03200 5352748.45100
SECONDARY_SE_QUAD_XY: 648470.09600 5345801.98500
SECONDARY_SW_QUAD_XY: 643830.60700 5345683.00200
RMSE_XY: 1.10000
IMAGE_SOURCE: BLACK AND WHITE FILM
SOURCE_IMAGE_ID: NAPP 9129 018
SOURCE_IMAGE_DATE: 1996 07 27
SOURCE_DEM_DATE: 1993 00 00
AGENCY: WESTERN MAPPING CENTER (WMC)
PRODUCER: UNDEFINED
PRODUCTION_SYSTEM: GIS/MAGIC
COMPRESSION: UNDEFINED
STANDARD_VERSION: 1996 12
METADATA_DATE: 2000 11 10
DATA_FILE_SIZE: 41981184
BYTE_COUNT: 5472
