FILENAME: O4810947.NES.1115695.tif
QUADRANGLE_NAME: CLEVELAND
QUADRANT: NE
WEST_LONGITUDE: -109 11 15.00000
EAST_LONGITUDE: -109 7 30.00000
NORTH_LATITUDE: 48 22 30.00000
SOUTH_LATITUDE: 48 18 45.00000
PRODUCTION_DATE: 2000 10 30
RASTER_ORDER: LEFT_RIGHT/TOP_BOTTOM
BAND_ORGANIZATION: SINGLE FILE
BAND_CONTENT: BLACK&WHITE
BAND_CONTENT: UNDEFINED
BAND_CONTENT: UNDEFINED
BITS_PER_PIXEL: 8
SAMPLES_AND_LINES: 5454 7663
HORIZONTAL_DATUM: NAD83
HORIZONTAL_COORDINATE_SYSTEM: UTM
COORDINATE_ZONE: 12
HORIZONTAL_UNITS: METERS
HORIZONTAL_RESOLUTION: 1.00000
SECONDARY_HORIZONTAL_DATUM: NAD27
XY_ORIGIN: 633864.00000 5359980.00000
SECONDARY_XY_ORIGIN: 633922.21700 5359762.95700
NATION: US
NATION: "SCIENCE
STATE: MT
NW_QUAD_CORNER_XY: 634218.99600 5359568.45500
NE_QUAD_CORNER_XY: 638847.04800 5359679.81900
SE_QUAD_CORNERY_XY: 639016.95600 5352733.21500
SW_QUAD_CORNER_XY: 634383.23700 5352621.82300
SECONDARY_NW_QUAD_XY: 634223.25300 5359349.55100
SECONDARY_NE_QUAD_XY: 638851.45200 5359460.91800
SECONDARY_SE_QUAD_XY: 639021.35900 5352514.32500
SECONDARY_SW_QUAD_XY: 634387.49300 5352402.92900
RMSE_XY: 1.40000
IMAGE_SOURCE: BLACK AND WHITE FILM
SOURCE_IMAGE_ID: NAPP 9145 130
SOURCE_IMAGE_DATE: 1996 08 25
SOURCE_DEM_DATE: 1993 00 00
AGENCY: WESTERN MAPPING CENTER (WMC)
PRODUCER: UNDEFINED
PRODUCTION_SYSTEM: GIS/MAGIC
COMPRESSION: UNDEFINED
STANDARD_VERSION: 1996 12
METADATA_DATE: 2000 11 29
DATA_FILE_SIZE: 41799456
BYTE_COUNT: 5454
