FILENAME: O4810947.SWS.1115698.tif
QUADRANGLE_NAME: CLEVELAND
QUADRANT: SW
WEST_LONGITUDE: -109 15 0.00000
EAST_LONGITUDE: -109 11 15.00000
NORTH_LATITUDE: 48 18 45.00000
SOUTH_LATITUDE: 48 15 0.00000
PRODUCTION_DATE: 2000 10 30
RASTER_ORDER: LEFT_RIGHT/TOP_BOTTOM
BAND_ORGANIZATION: SINGLE FILE
BAND_CONTENT: BLACK&WHITE
BAND_CONTENT: UNDEFINED
BAND_CONTENT: UNDEFINED
BITS_PER_PIXEL: 8
SAMPLES_AND_LINES: 5455 7659
HORIZONTAL_DATUM: NAD83
HORIZONTAL_COORDINATE_SYSTEM: UTM
COORDINATE_ZONE: 12
HORIZONTAL_UNITS: METERS
HORIZONTAL_RESOLUTION: 1.00000
SECONDARY_HORIZONTAL_DATUM: NAD27
XY_ORIGIN: 629394.00000 5352922.00000
SECONDARY_XY_ORIGIN: 629452.31100 5352705.08400
NATION: US
NATION: "SCIENCE
STATE: MT
NW_QUAD_CORNER_XY: 629749.50000 5352514.20900
NE_QUAD_CORNER_XY: 634383.23700 5352621.82300
SE_QUAD_CORNERY_XY: 634547.31600 5345675.26000
SW_QUAD_CORNER_XY: 629907.91800 5345567.61900
SECONDARY_NW_QUAD_XY: 629753.60900 5352295.31200
SECONDARY_NE_QUAD_XY: 634387.49300 5352402.92900
SECONDARY_SE_QUAD_XY: 634551.57300 5345456.37600
SECONDARY_SW_QUAD_XY: 629912.02800 5345348.73200
RMSE_XY: 1.50000
IMAGE_SOURCE: BLACK AND WHITE FILM
SOURCE_IMAGE_ID: NAPP 9145 040
SOURCE_IMAGE_DATE: 1996 08 25
SOURCE_IMAGE_ID: NAPP 9145 088
SOURCE_IMAGE_DATE: 1996 08 25
SOURCE_DEM_DATE: 1993 00 00
AGENCY: WESTERN MAPPING CENTER (WMC)
PRODUCER: UNDEFINED
PRODUCTION_SYSTEM: GIS/MAGIC
COMPRESSION: UNDEFINED
STANDARD_VERSION: 1996 12
METADATA_DATE: 2000 11 29
DATA_FILE_SIZE: 41785300
BYTE_COUNT: 5455
