FILENAME: O4810946.SWS.1115674.tif
QUADRANGLE_NAME: LLOYD
QUADRANT: SW
WEST_LONGITUDE: -109 22 30.00000
EAST_LONGITUDE: -109 18 45.00000
NORTH_LATITUDE: 48 18 45.00000
SOUTH_LATITUDE: 48 15 0.00000
PRODUCTION_DATE: 2000 10 30
RASTER_ORDER: LEFT_RIGHT/TOP_BOTTOM
BAND_ORGANIZATION: SINGLE FILE
BAND_CONTENT: BLACK&WHITE
BAND_CONTENT: UNDEFINED
BAND_CONTENT: UNDEFINED
BITS_PER_PIXEL: 8
SAMPLES_AND_LINES: 5444 7652
HORIZONTAL_DATUM: NAD83
HORIZONTAL_COORDINATE_SYSTEM: UTM
COORDINATE_ZONE: 12
HORIZONTAL_UNITS: METERS
HORIZONTAL_RESOLUTION: 1.00000
SECONDARY_HORIZONTAL_DATUM: NAD27
XY_ORIGIN: 620126.00000 5352711.00000
SECONDARY_XY_ORIGIN: 620184.56300 5352494.00200
NATION: US
NATION: "SCIENCE
STATE: MT
NW_QUAD_CORNER_XY: 620481.97300 5352310.31400
NE_QUAD_CORNER_XY: 625115.74500 5352410.37300
SE_QUAD_CORNERY_XY: 625268.50300 5345463.75700
SW_QUAD_CORNER_XY: 620629.07100 5345363.67400
SECONDARY_NW_QUAD_XY: 620485.79000 5352091.41000
SECONDARY_NE_QUAD_XY: 625119.70800 5352191.47200
SECONDARY_SE_QUAD_XY: 625272.46600 5345244.86700
SECONDARY_SW_QUAD_XY: 620632.88700 5345144.78100
RMSE_XY: 1.70000
IMAGE_SOURCE: BLACK AND WHITE FILM
SOURCE_IMAGE_ID: NAPP 9156 085
SOURCE_IMAGE_DATE: 1997 08 29
SOURCE_IMAGE_ID: NAPP 9156 086
SOURCE_IMAGE_DATE: 1997 08 29
SOURCE_DEM_DATE: 1993 00 00
AGENCY: WESTERN MAPPING CENTER (WMC)
PRODUCER: UNDEFINED
PRODUCTION_SYSTEM: GIS/MAGIC
COMPRESSION: UNDEFINED
STANDARD_VERSION: 1996 12
METADATA_DATE: 2000 11 10
DATA_FILE_SIZE: 41662932
BYTE_COUNT: 5444
