FILENAME: e:\updates\vol010_q1_2001\tiles\O4810945.NES.tif
QUADRANGLE_NAME: BARBER BUTTE
QUADRANT: NE
WEST_LONGITUDE: -109 26 15.00000
EAST_LONGITUDE: -109 22 30.00000
NORTH_LATITUDE: 48 22 30.00000
SOUTH_LATITUDE: 48 18 45.00000
PRODUCTION_DATE: 2000 10 17
RASTER_ORDER: LEFT_RIGHT/TOP_BOTTOM
BAND_ORGANIZATION: SINGLE FILE
BAND_CONTENT: BLACK&WHITE
BAND_CONTENT: UNDEFINED
BAND_CONTENT: UNDEFINED
BITS_PER_PIXEL: 8
SAMPLES_AND_LINES: 5433 7648
HORIZONTAL_DATUM: NAD83
HORIZONTAL_COORDINATE_SYSTEM: UTM
COORDINATE_ZONE: 12
HORIZONTAL_UNITS: METERS
HORIZONTAL_RESOLUTION: 1.00000
SECONDARY_HORIZONTAL_DATUM: NAD27
XY_ORIGIN: 615350.00000 5359558.00000
SECONDARY_XY_ORIGIN: 615408.62600 5359340.76200
NATION: US
NATION: "SCIENCE
STATE: MT
NW_QUAD_CORNER_XY: 615706.60900 5359160.76800
NE_QUAD_CORNER_XY: 620334.73100 5359257.02500
SE_QUAD_CORNERY_XY: 620481.97300 5352310.31400
SW_QUAD_CORNER_XY: 615848.18500 5352214.03300
SECONDARY_NW_QUAD_XY: 615710.27800 5358941.85100
SECONDARY_NE_QUAD_XY: 620338.54800 5359038.11100
SECONDARY_SE_QUAD_XY: 620485.79000 5352091.41000
SECONDARY_SW_QUAD_XY: 615851.85500 5351995.12600
RMSE_XY: 1.60000
IMAGE_SOURCE: BLACK AND WHITE FILM
SOURCE_IMAGE_ID: NAPP 9156 132
SOURCE_IMAGE_DATE: 1997 08 29
SOURCE_DEM_DATE: 1993 00 00
AGENCY: WESTERN MAPPING CENTER (WMC)
PRODUCER: UNDEFINED
PRODUCTION_SYSTEM: GIS/MAGIC
COMPRESSION: UNDEFINED
STANDARD_VERSION: 1996 12
METADATA_DATE: 2000 11 09
DATA_FILE_SIZE: 41557017
BYTE_COUNT: 5433
