FILENAME: O4810944.NES.1119777.tif
QUADRANGLE_NAME: SHAMBO SE
QUADRANT: NE
WEST_LONGITUDE: -109 33 45.00000
EAST_LONGITUDE: -109 30 0.00000
NORTH_LATITUDE: 48 22 30.00000
SOUTH_LATITUDE: 48 18 45.00000
PRODUCTION_DATE: 2000 10 25
RASTER_ORDER: LEFT_RIGHT/TOP_BOTTOM
BAND_ORGANIZATION: SINGLE FILE
BAND_CONTENT: BLACK&WHITE
BAND_CONTENT: UNDEFINED
BAND_CONTENT: UNDEFINED
BITS_PER_PIXEL: 8
SAMPLES_AND_LINES: 5423 7641
HORIZONTAL_DATUM: NAD83
HORIZONTAL_COORDINATE_SYSTEM: UTM
COORDINATE_ZONE: 12
HORIZONTAL_UNITS: METERS
HORIZONTAL_RESOLUTION: 1.00000
SECONDARY_HORIZONTAL_DATUM: NAD27
XY_ORIGIN: 606093.00000 5359369.00000
SECONDARY_XY_ORIGIN: 606151.82300 5359151.72300
NATION: US
NATION: "SCIENCE
STATE: MT
NW_QUAD_CORNER_XY: 606450.31600 5358979.58400
NE_QUAD_CORNER_XY: 611078.47000 5359068.28800
SE_QUAD_CORNERY_XY: 611214.38100 5352121.52900
SW_QUAD_CORNER_XY: 606580.56200 5352032.80300
SECONDARY_NW_QUAD_XY: 606453.69200 5358760.66100
SECONDARY_NE_QUAD_XY: 611081.99300 5358849.36800
SECONDARY_SE_QUAD_XY: 611217.90400 5351902.62000
SECONDARY_SW_QUAD_XY: 606583.93800 5351813.89000
RMSE_XY: 2.00000
IMAGE_SOURCE: BLACK AND WHITE FILM
SOURCE_IMAGE_ID: NAPP 9159 090
SOURCE_IMAGE_DATE: 1997 09 22
SOURCE_IMAGE_ID: NAPP 9159 091
SOURCE_IMAGE_DATE: 1997 09 22
SOURCE_IMAGE_ID: NAPP 9159 089
SOURCE_IMAGE_DATE: 1997 09 22
SOURCE_DEM_DATE: 2000 01 01
AGENCY: WESTERN MAPPING CENTER (WMC)
PRODUCER: UNDEFINED
PRODUCTION_SYSTEM: GIS/MAGIC
COMPRESSION: UNDEFINED
STANDARD_VERSION: 1996 12
METADATA_DATE: 2000 11 30
DATA_FILE_SIZE: 41442566
BYTE_COUNT: 5423
