FILENAME: O4810944.NWS.1119778.tif
QUADRANGLE_NAME: SHAMBO SE
QUADRANT: NW
WEST_LONGITUDE: -109 37 30.00000
EAST_LONGITUDE: -109 33 45.00000
NORTH_LATITUDE: 48 22 30.00000
SOUTH_LATITUDE: 48 18 45.00000
PRODUCTION_DATE: 2000 10 25
RASTER_ORDER: LEFT_RIGHT/TOP_BOTTOM
BAND_ORGANIZATION: SINGLE FILE
BAND_CONTENT: BLACK&WHITE
BAND_CONTENT: UNDEFINED
BAND_CONTENT: UNDEFINED
BITS_PER_PIXEL: 8
SAMPLES_AND_LINES: 5417 7637
HORIZONTAL_DATUM: NAD83
HORIZONTAL_COORDINATE_SYSTEM: UTM
COORDINATE_ZONE: 12
HORIZONTAL_UNITS: METERS
HORIZONTAL_RESOLUTION: 1.00000
SECONDARY_HORIZONTAL_DATUM: NAD27
XY_ORIGIN: 601465.00000 5359280.00000
SECONDARY_XY_ORIGIN: 601523.90100 5359062.73100
NATION: US
NATION: "SCIENCE
STATE: MT
NW_QUAD_CORNER_XY: 601822.14700 5358894.65500
NE_QUAD_CORNER_XY: 606450.31600 5358979.58400
SE_QUAD_CORNERY_XY: 606580.56200 5352032.80300
SW_QUAD_CORNER_XY: 601946.72900 5351947.85300
SECONDARY_NW_QUAD_XY: 601825.37600 5358675.73000
SECONDARY_NE_QUAD_XY: 606453.69200 5358760.66100
SECONDARY_SE_QUAD_XY: 606583.93800 5351813.89000
SECONDARY_SW_QUAD_XY: 601949.95800 5351728.93700
RMSE_XY: 2.70000
IMAGE_SOURCE: BLACK AND WHITE FILM
SOURCE_IMAGE_ID: NAPP 9159 161
SOURCE_IMAGE_DATE: 1997 09 22
SOURCE_IMAGE_ID: NAPP 9159 207
SOURCE_IMAGE_DATE: 1997 09 22
SOURCE_IMAGE_ID: NAPP 9159 162
SOURCE_IMAGE_DATE: 1997 09 22
SOURCE_DEM_DATE: 2000 01 01
AGENCY: WESTERN MAPPING CENTER (WMC)
PRODUCER: UNDEFINED
PRODUCTION_SYSTEM: GIS/MAGIC
COMPRESSION: UNDEFINED
STANDARD_VERSION: 1996 12
METADATA_DATE: 2000 11 30
DATA_FILE_SIZE: 41375046
BYTE_COUNT: 5417
