FILENAME: O4810943.SES.1119755.tif
QUADRANGLE_NAME: BEARPAW LAKE
QUADRANT: SE
WEST_LONGITUDE: -109 41 15.00000
EAST_LONGITUDE: -109 37 30.00000
NORTH_LATITUDE: 48 18 45.00000
SOUTH_LATITUDE: 48 15 0.00000
PRODUCTION_DATE: 2000 10 25
RASTER_ORDER: LEFT_RIGHT/TOP_BOTTOM
BAND_ORGANIZATION: SINGLE FILE
BAND_CONTENT: BLACK&WHITE
BAND_CONTENT: UNDEFINED
BAND_CONTENT: UNDEFINED
BITS_PER_PIXEL: 8
SAMPLES_AND_LINES: 5418 7633
HORIZONTAL_DATUM: NAD83
HORIZONTAL_COORDINATE_SYSTEM: UTM
COORDINATE_ZONE: 12
HORIZONTAL_UNITS: METERS
HORIZONTAL_RESOLUTION: 1.00000
SECONDARY_HORIZONTAL_DATUM: NAD27
XY_ORIGIN: 596955.00000 5352248.00000
SECONDARY_XY_ORIGIN: 597013.99400 5352030.98600
NATION: US
NATION: "SCIENCE
STATE: MT
NW_QUAD_CORNER_XY: 597312.88100 5351866.68000
NE_QUAD_CORNER_XY: 601946.72900 5351947.85300
SE_QUAD_CORNERY_XY: 602071.18800 5345001.12200
SW_QUAD_CORNER_XY: 597431.68200 5344919.92900
SECONDARY_NW_QUAD_XY: 597315.96400 5351647.76200
SECONDARY_NE_QUAD_XY: 601949.95800 5351728.93700
SECONDARY_SE_QUAD_XY: 602074.41700 5344782.21800
SECONDARY_SW_QUAD_XY: 597434.76400 5344701.02200
RMSE_XY: 2.20000
IMAGE_SOURCE: BLACK AND WHITE FILM
SOURCE_IMAGE_ID: NAPP 9159 208
SOURCE_IMAGE_DATE: 1997 09 22
SOURCE_IMAGE_ID: NAPP 9159 207
SOURCE_IMAGE_DATE: 1997 09 22
SOURCE_DEM_DATE: 2000 01 01
AGENCY: WESTERN MAPPING CENTER (WMC)
PRODUCER: UNDEFINED
PRODUCTION_SYSTEM: GIS/MAGIC
COMPRESSION: UNDEFINED
STANDARD_VERSION: 1996 12
METADATA_DATE: 2000 11 09
DATA_FILE_SIZE: 41361012
BYTE_COUNT: 5418
