FILENAME: O4810942.NWS.1115157.tif
QUADRANGLE_NAME: ROCKY BOY
QUADRANT: NW
WEST_LONGITUDE: -109 52 30.00000
EAST_LONGITUDE: -109 48 45.00000
NORTH_LATITUDE: 48 22 30.00000
SOUTH_LATITUDE: 48 18 45.00000
PRODUCTION_DATE: 2000 10 25
RASTER_ORDER: LEFT_RIGHT/TOP_BOTTOM
BAND_ORGANIZATION: SINGLE FILE
BAND_CONTENT: BLACK&WHITE
BAND_CONTENT: UNDEFINED
BAND_CONTENT: UNDEFINED
BITS_PER_PIXEL: 8
SAMPLES_AND_LINES: 5395 7622
HORIZONTAL_DATUM: NAD83
HORIZONTAL_COORDINATE_SYSTEM: UTM
COORDINATE_ZONE: 12
HORIZONTAL_UNITS: METERS
HORIZONTAL_RESOLUTION: 1.00000
SECONDARY_HORIZONTAL_DATUM: NAD27
XY_ORIGIN: 582952.00000 5358963.00000
SECONDARY_XY_ORIGIN: 583010.96800 5358745.90000
NATION: US
NATION: "SCIENCE
STATE: MT
NW_QUAD_CORNER_XY: 583309.33700 5358592.69800
NE_QUAD_CORNER_XY: 587937.55900 5358662.52400
SE_QUAD_CORNERY_XY: 588045.14700 5351715.66300
SW_QUAD_CORNER_XY: 583411.26200 5351645.81900
SECONDARY_NW_QUAD_XY: 583311.97900 5358373.76300
SECONDARY_NE_QUAD_XY: 587940.34700 5358443.59100
SECONDARY_SE_QUAD_XY: 588047.93600 5351496.74000
SECONDARY_SW_QUAD_XY: 583413.90400 5351426.89400
RMSE_XY: 1.40000
IMAGE_SOURCE: BLACK AND WHITE FILM
SOURCE_IMAGE_ID: NAPP 9160 034
SOURCE_IMAGE_DATE: 1997 09 23
SOURCE_DEM_DATE: 1975 00 00
AGENCY: WESTERN MAPPING CENTER (WMC)
PRODUCER: UNDEFINED
PRODUCTION_SYSTEM: GIS/MAGIC
COMPRESSION: UNDEFINED
STANDARD_VERSION: 1996 12
METADATA_DATE: 2000 11 09
DATA_FILE_SIZE: 41126085
BYTE_COUNT: 5395
