FILENAME: O4810942.SES.1115158.tif
QUADRANGLE_NAME: ROCKY BOY
QUADRANT: SE
WEST_LONGITUDE: -109 48 45.00000
EAST_LONGITUDE: -109 45 0.00000
NORTH_LATITUDE: 48 18 45.00000
SOUTH_LATITUDE: 48 15 0.00000
PRODUCTION_DATE: 2000 10 25
RASTER_ORDER: LEFT_RIGHT/TOP_BOTTOM
BAND_ORGANIZATION: SINGLE FILE
BAND_CONTENT: BLACK&WHITE
BAND_CONTENT: UNDEFINED
BAND_CONTENT: UNDEFINED
BITS_PER_PIXEL: 8
SAMPLES_AND_LINES: 5407 7626
HORIZONTAL_DATUM: NAD83
HORIZONTAL_COORDINATE_SYSTEM: UTM
COORDINATE_ZONE: 12
HORIZONTAL_UNITS: METERS
HORIZONTAL_RESOLUTION: 1.00000
SECONDARY_HORIZONTAL_DATUM: NAD27
XY_ORIGIN: 587687.00000 5352090.00000
SECONDARY_XY_ORIGIN: 587746.01800 5351873.08700
NATION: US
NATION: "SCIENCE
STATE: MT
NW_QUAD_CORNER_XY: 588045.14700 5351715.66300
NE_QUAD_CORNER_XY: 592679.02100 5351789.28300
SE_QUAD_CORNERY_XY: 592792.16300 5344842.51300
SW_QUAD_CORNER_XY: 588152.63100 5344768.87500
SECONDARY_NW_QUAD_XY: 588047.93600 5351496.74000
SECONDARY_NE_QUAD_XY: 592681.95600 5351570.36300
SECONDARY_SE_QUAD_XY: 592795.09800 5344623.60400
SECONDARY_SW_QUAD_XY: 588155.41900 5344549.96300
RMSE_XY: 1.90000
IMAGE_SOURCE: BLACK AND WHITE FILM
SOURCE_IMAGE_ID: NAPP 9160 039
SOURCE_IMAGE_DATE: 1997 09 23
SOURCE_DEM_DATE: 1975 00 00
AGENCY: WESTERN MAPPING CENTER (WMC)
PRODUCER: UNDEFINED
PRODUCTION_SYSTEM: GIS/MAGIC
COMPRESSION: UNDEFINED
STANDARD_VERSION: 1996 12
METADATA_DATE: 2000 11 09
DATA_FILE_SIZE: 41239189
BYTE_COUNT: 5407
