FILENAME: O4810941.NES.1115140.tif
QUADRANGLE_NAME: COWAN RESERVOIR
QUADRANT: NE
WEST_LONGITUDE: -109 56 15.00000
EAST_LONGITUDE: -109 52 30.00000
NORTH_LATITUDE: 48 22 30.00000
SOUTH_LATITUDE: 48 18 45.00000
PRODUCTION_DATE: 2000 10 25
RASTER_ORDER: LEFT_RIGHT/TOP_BOTTOM
BAND_ORGANIZATION: SINGLE FILE
BAND_CONTENT: BLACK&WHITE
BAND_CONTENT: UNDEFINED
BAND_CONTENT: UNDEFINED
BITS_PER_PIXEL: 8
SAMPLES_AND_LINES: 5390 7618
HORIZONTAL_DATUM: NAD83
HORIZONTAL_COORDINATE_SYSTEM: UTM
COORDINATE_ZONE: 12
HORIZONTAL_UNITS: METERS
HORIZONTAL_RESOLUTION: 1.00000
SECONDARY_HORIZONTAL_DATUM: NAD27
XY_ORIGIN: 578323.00000 5358893.00000
SECONDARY_XY_ORIGIN: 578381.92400 5358675.97600
NATION: US
NATION: "SCIENCE
STATE: MT
NW_QUAD_CORNER_XY: 578681.10400 5358526.64700
NE_QUAD_CORNER_XY: 583309.33700 5358592.69800
SE_QUAD_CORNERY_XY: 583411.26200 5351645.81900
SW_QUAD_CORNER_XY: 578777.36600 5351579.75200
SECONDARY_NW_QUAD_XY: 578683.59900 5358307.71000
SECONDARY_NE_QUAD_XY: 583311.97900 5358373.76300
SECONDARY_SE_QUAD_XY: 583413.90400 5351426.89400
SECONDARY_SW_QUAD_XY: 578779.86100 5351360.82400
RMSE_XY: 1.00000
IMAGE_SOURCE: BLACK AND WHITE FILM
SOURCE_IMAGE_ID: NAPP 9128 245
SOURCE_IMAGE_DATE: 1996 07 29
SOURCE_DEM_DATE: 1975 00 00
AGENCY: WESTERN MAPPING CENTER (WMC)
PRODUCER: UNDEFINED
PRODUCTION_SYSTEM: GIS/MAGIC
COMPRESSION: UNDEFINED
STANDARD_VERSION: 1996 12
METADATA_DATE: 2000 11 08
DATA_FILE_SIZE: 41066410
BYTE_COUNT: 5390
