FILENAME: O4810940.NES.1115731.tif
QUADRANGLE_NAME: CLEVELAND NE
QUADRANT: NE
WEST_LONGITUDE: -109 3 45.00000
EAST_LONGITUDE: -109 0 0.00000
NORTH_LATITUDE: 48 30 0.00000
SOUTH_LATITUDE: 48 26 15.00000
PRODUCTION_DATE: 2000 10 30
RASTER_ORDER: LEFT_RIGHT/TOP_BOTTOM
BAND_ORGANIZATION: SINGLE FILE
BAND_CONTENT: BLACK&WHITE
BAND_CONTENT: UNDEFINED
BAND_CONTENT: UNDEFINED
BITS_PER_PIXEL: 8
SAMPLES_AND_LINES: 5455 7671
HORIZONTAL_DATUM: NAD83
HORIZONTAL_COORDINATE_SYSTEM: UTM
COORDINATE_ZONE: 12
HORIZONTAL_UNITS: METERS
HORIZONTAL_RESOLUTION: 1.00000
SECONDARY_HORIZONTAL_DATUM: NAD27
XY_ORIGIN: 642768.00000 5374108.00000
SECONDARY_XY_ORIGIN: 642825.98500 5373890.74500
NATION: US
NATION: "SCIENCE
STATE: MT
NW_QUAD_CORNER_XY: 643123.41600 5373688.31000
NE_QUAD_CORNER_XY: 647740.07700 5373807.16700
SE_QUAD_CORNERY_XY: 647921.67400 5366860.48900
SW_QUAD_CORNER_XY: 643299.33400 5366741.60100
SECONDARY_NW_QUAD_XY: 643127.96700 5373469.39500
SECONDARY_NE_QUAD_XY: 647744.77500 5373588.25600
SECONDARY_SE_QUAD_XY: 647926.37100 5366641.58700
SECONDARY_SW_QUAD_XY: 643303.88500 5366522.69500
RMSE_XY: 0.90000
IMAGE_SOURCE: BLACK AND WHITE FILM
SOURCE_IMAGE_ID: NAPP 9129 012
SOURCE_IMAGE_DATE: 1996 07 27
SOURCE_IMAGE_ID: NAPP 9147 185
SOURCE_IMAGE_DATE: 1996 08 24
SOURCE_IMAGE_ID: NAPP 9147 184
SOURCE_IMAGE_DATE: 1996 08 24
SOURCE_IMAGE_ID: NAPP 9147 183
SOURCE_IMAGE_DATE: 1996 08 24
SOURCE_DEM_DATE: 1993 00 00
AGENCY: WESTERN MAPPING CENTER (WMC)
PRODUCER: UNDEFINED
PRODUCTION_SYSTEM: GIS/MAGIC
COMPRESSION: UNDEFINED
STANDARD_VERSION: 1996 12
METADATA_DATE: 2000 11 10
DATA_FILE_SIZE: 41850760
BYTE_COUNT: 5455
