FILENAME: O4810940.NWS.1115732.tif
QUADRANGLE_NAME: CLEVELAND NE
QUADRANT: NW
WEST_LONGITUDE: -109 7 30.00000
EAST_LONGITUDE: -109 3 45.00000
NORTH_LATITUDE: 48 30 0.00000
SOUTH_LATITUDE: 48 26 15.00000
PRODUCTION_DATE: 2000 10 30
RASTER_ORDER: LEFT_RIGHT/TOP_BOTTOM
BAND_ORGANIZATION: SINGLE FILE
BAND_CONTENT: BLACK&WHITE
BAND_CONTENT: UNDEFINED
BAND_CONTENT: UNDEFINED
BITS_PER_PIXEL: 8
SAMPLES_AND_LINES: 5449 7667
HORIZONTAL_DATUM: NAD83
HORIZONTAL_COORDINATE_SYSTEM: UTM
COORDINATE_ZONE: 12
HORIZONTAL_UNITS: METERS
HORIZONTAL_RESOLUTION: 1.00000
SECONDARY_HORIZONTAL_DATUM: NAD27
XY_ORIGIN: 638152.00000 5373989.00000
SECONDARY_XY_ORIGIN: 638210.02600 5373771.68900
NATION: US
NATION: "SCIENCE
STATE: MT
NW_QUAD_CORNER_XY: 638506.73400 5373573.22900
NE_QUAD_CORNER_XY: 643123.41600 5373688.31000
SE_QUAD_CORNERY_XY: 643299.33400 5366741.60100
SW_QUAD_CORNER_XY: 638676.97400 5366626.49000
SECONDARY_NW_QUAD_XY: 638511.13800 5373354.31000
SECONDARY_NE_QUAD_XY: 643127.96700 5373469.39500
SECONDARY_SE_QUAD_XY: 643303.88500 5366522.69500
SECONDARY_SW_QUAD_XY: 638681.37800 5366407.58000
RMSE_XY: 1.40000
IMAGE_SOURCE: BLACK AND WHITE FILM
SOURCE_IMAGE_ID: NAPP 9129 226
SOURCE_IMAGE_DATE: 1996 07 27
SOURCE_IMAGE_ID: NAPP 9129 227
SOURCE_IMAGE_DATE: 1996 07 27
SOURCE_DEM_DATE: 1993 00 00
AGENCY: WESTERN MAPPING CENTER (WMC)
PRODUCER: UNDEFINED
PRODUCTION_SYSTEM: GIS/MAGIC
COMPRESSION: UNDEFINED
STANDARD_VERSION: 1996 12
METADATA_DATE: 2000 11 10
DATA_FILE_SIZE: 41782932
BYTE_COUNT: 5449
