FILENAME: O4810940.SES.1115733.tif
QUADRANGLE_NAME: CLEVELAND NE
QUADRANT: SE
WEST_LONGITUDE: -109 3 45.00000
EAST_LONGITUDE: -109 0 0.00000
NORTH_LATITUDE: 48 26 15.00000
SOUTH_LATITUDE: 48 22 30.00000
PRODUCTION_DATE: 2000 10 30
RASTER_ORDER: LEFT_RIGHT/TOP_BOTTOM
BAND_ORGANIZATION: SINGLE FILE
BAND_CONTENT: BLACK&WHITE
BAND_CONTENT: UNDEFINED
BAND_CONTENT: UNDEFINED
BITS_PER_PIXEL: 8
SAMPLES_AND_LINES: 5461 7670
HORIZONTAL_DATUM: NAD83
HORIZONTAL_COORDINATE_SYSTEM: UTM
COORDINATE_ZONE: 12
HORIZONTAL_UNITS: METERS
HORIZONTAL_RESOLUTION: 1.00000
SECONDARY_HORIZONTAL_DATUM: NAD27
XY_ORIGIN: 642944.00000 5367161.00000
SECONDARY_XY_ORIGIN: 643002.07500 5366943.89400
NATION: US
NATION: "SCIENCE
STATE: MT
NW_QUAD_CORNER_XY: 643299.33400 5366741.60100
NE_QUAD_CORNER_XY: 647921.67400 5366860.48900
SE_QUAD_CORNERY_XY: 648103.09300 5359913.87800
SW_QUAD_CORNER_XY: 643475.08100 5359794.96000
SECONDARY_NW_QUAD_XY: 643303.88500 5366522.69500
SECONDARY_NE_QUAD_XY: 647926.37100 5366641.58700
SECONDARY_SE_QUAD_XY: 648107.79000 5359694.98500
SECONDARY_SW_QUAD_XY: 643479.63100 5359576.06300
RMSE_XY: 0.90000
IMAGE_SOURCE: BLACK AND WHITE FILM
SOURCE_IMAGE_ID: NAPP 9129 014
SOURCE_IMAGE_DATE: 1996 07 27
SOURCE_DEM_DATE: 1993 00 00
AGENCY: WESTERN MAPPING CENTER (WMC)
PRODUCER: UNDEFINED
PRODUCTION_SYSTEM: GIS/MAGIC
COMPRESSION: UNDEFINED
STANDARD_VERSION: 1996 12
METADATA_DATE: 2000 11 10
DATA_FILE_SIZE: 41891331
BYTE_COUNT: 5461
