FILENAME: O4810940.SWS.1115734.tif
QUADRANGLE_NAME: CLEVELAND NE
QUADRANT: SW
WEST_LONGITUDE: -109 7 30.00000
EAST_LONGITUDE: -109 3 45.00000
NORTH_LATITUDE: 48 26 15.00000
SOUTH_LATITUDE: 48 22 30.00000
PRODUCTION_DATE: 2000 10 30
RASTER_ORDER: LEFT_RIGHT/TOP_BOTTOM
BAND_ORGANIZATION: SINGLE FILE
BAND_CONTENT: BLACK&WHITE
BAND_CONTENT: UNDEFINED
BAND_CONTENT: UNDEFINED
BITS_PER_PIXEL: 8
SAMPLES_AND_LINES: 5455 7667
HORIZONTAL_DATUM: NAD83
HORIZONTAL_COORDINATE_SYSTEM: UTM
COORDINATE_ZONE: 12
HORIZONTAL_UNITS: METERS
HORIZONTAL_RESOLUTION: 1.00000
SECONDARY_HORIZONTAL_DATUM: NAD27
XY_ORIGIN: 638322.00000 5367042.00000
SECONDARY_XY_ORIGIN: 638380.10800 5366824.84400
NATION: US
NATION: "SCIENCE
STATE: MT
NW_QUAD_CORNER_XY: 638676.97400 5366626.49000
NE_QUAD_CORNER_XY: 643299.33400 5366741.60100
SE_QUAD_CORNERY_XY: 643475.08100 5359794.96000
SW_QUAD_CORNER_XY: 638847.04800 5359679.81900
SECONDARY_NW_QUAD_XY: 638681.37800 5366407.58000
SECONDARY_NE_QUAD_XY: 643303.88500 5366522.69500
SECONDARY_SE_QUAD_XY: 643479.63100 5359576.06300
SECONDARY_SW_QUAD_XY: 638851.45200 5359460.91800
RMSE_XY: 1.60000
IMAGE_SOURCE: BLACK AND WHITE FILM
SOURCE_IMAGE_ID: NAPP 9129 224
SOURCE_IMAGE_DATE: 1996 07 27
SOURCE_DEM_DATE: 1993 00 00
AGENCY: WESTERN MAPPING CENTER (WMC)
PRODUCER: UNDEFINED
PRODUCTION_SYSTEM: GIS/MAGIC
COMPRESSION: UNDEFINED
STANDARD_VERSION: 1996 12
METADATA_DATE: 2000 11 10
DATA_FILE_SIZE: 41828940
BYTE_COUNT: 5455
