FILENAME: O4810938.SWS.1115670.tif
QUADRANGLE_NAME: SAYER BUTTE
QUADRANT: SW
WEST_LONGITUDE: -109 22 30.00000
EAST_LONGITUDE: -109 18 45.00000
NORTH_LATITUDE: 48 26 15.00000
SOUTH_LATITUDE: 48 22 30.00000
PRODUCTION_DATE: 2000 10 30
RASTER_ORDER: LEFT_RIGHT/TOP_BOTTOM
BAND_ORGANIZATION: SINGLE FILE
BAND_CONTENT: BLACK&WHITE
BAND_CONTENT: UNDEFINED
BAND_CONTENT: UNDEFINED
BITS_PER_PIXEL: 8
SAMPLES_AND_LINES: 5433 7651
HORIZONTAL_DATUM: NAD83
HORIZONTAL_COORDINATE_SYSTEM: UTM
COORDINATE_ZONE: 12
HORIZONTAL_UNITS: METERS
HORIZONTAL_RESOLUTION: 1.00000
SECONDARY_HORIZONTAL_DATUM: NAD27
XY_ORIGIN: 619831.00000 5366604.00000
SECONDARY_XY_ORIGIN: 619889.43800 5366386.62500
NATION: US
NATION: "SCIENCE
STATE: MT
NW_QUAD_CORNER_XY: 620187.34500 5366203.80500
NE_QUAD_CORNER_XY: 624809.77900 5366303.81300
SE_QUAD_CORNERY_XY: 624962.83700 5359357.05800
SW_QUAD_CORNER_XY: 620334.73100 5359257.02500
SECONDARY_NW_QUAD_XY: 620191.16100 5365984.88200
SECONDARY_NE_QUAD_XY: 624813.74300 5366084.89200
SECONDARY_SE_QUAD_XY: 624966.80000 5359138.14700
SECONDARY_SW_QUAD_XY: 620338.54800 5359038.11100
RMSE_XY: 1.40000
IMAGE_SOURCE: BLACK AND WHITE FILM
SOURCE_IMAGE_ID: NAPP 9156 089
SOURCE_IMAGE_DATE: 1997 08 29
SOURCE_DEM_DATE: 1993 00 00
AGENCY: WESTERN MAPPING CENTER (WMC)
PRODUCER: UNDEFINED
PRODUCTION_SYSTEM: GIS/MAGIC
COMPRESSION: UNDEFINED
STANDARD_VERSION: 1996 12
METADATA_DATE: 2000 11 10
DATA_FILE_SIZE: 41573316
BYTE_COUNT: 5433
