FILENAME: O4810937.NES.1119808.tif
QUADRANGLE_NAME: LLOYD NW
QUADRANT: NE
WEST_LONGITUDE: -109 26 15.00000
EAST_LONGITUDE: -109 22 30.00000
NORTH_LATITUDE: 48 30 0.00000
SOUTH_LATITUDE: 48 26 15.00000
PRODUCTION_DATE: 2000 10 17
RASTER_ORDER: LEFT_RIGHT/TOP_BOTTOM
BAND_ORGANIZATION: SINGLE FILE
BAND_CONTENT: BLACK&WHITE
BAND_CONTENT: UNDEFINED
BAND_CONTENT: UNDEFINED
BITS_PER_PIXEL: 8
SAMPLES_AND_LINES: 5422 7647
HORIZONTAL_DATUM: NAD83
HORIZONTAL_COORDINATE_SYSTEM: UTM
COORDINATE_ZONE: 12
HORIZONTAL_UNITS: METERS
HORIZONTAL_RESOLUTION: 1.00000
SECONDARY_HORIZONTAL_DATUM: NAD27
XY_ORIGIN: 615067.00000 5373451.00000
SECONDARY_XY_ORIGIN: 615125.50700 5373233.36700
NATION: US
NATION: "SCIENCE
STATE: MT
NW_QUAD_CORNER_XY: 615423.03900 5373054.44900
NE_QUAD_CORNER_XY: 620039.81400 5373150.65500
SE_QUAD_CORNERY_XY: 620187.34500 5366203.80500
SW_QUAD_CORNER_XY: 615564.89300 5366107.57300
SECONDARY_NW_QUAD_XY: 615426.70900 5372835.51400
SECONDARY_NE_QUAD_XY: 620043.63100 5372931.72400
SECONDARY_SE_QUAD_XY: 620191.16100 5365984.88200
SECONDARY_SW_QUAD_XY: 615568.56300 5365888.64700
RMSE_XY: 1.50000
IMAGE_SOURCE: BLACK AND WHITE FILM
SOURCE_IMAGE_ID: NAPP 9156 128
SOURCE_IMAGE_DATE: 1997 08 29
SOURCE_DEM_DATE: 1993 00 00
AGENCY: WESTERN MAPPING CENTER (WMC)
PRODUCER: UNDEFINED
PRODUCTION_SYSTEM: GIS/MAGIC
COMPRESSION: UNDEFINED
STANDARD_VERSION: 1996 12
METADATA_DATE: 2000 11 09
DATA_FILE_SIZE: 41467456
BYTE_COUNT: 5422
