FILENAME: O4810937.NWS.1119809.tif
QUADRANGLE_NAME: LLOYD NW
QUADRANT: NW
WEST_LONGITUDE: -109 30 0.00000
EAST_LONGITUDE: -109 26 15.00000
NORTH_LATITUDE: 48 30 0.00000
SOUTH_LATITUDE: 48 26 15.00000
PRODUCTION_DATE: 2000 10 17
RASTER_ORDER: LEFT_RIGHT/TOP_BOTTOM
BAND_ORGANIZATION: SINGLE FILE
BAND_CONTENT: BLACK&WHITE
BAND_CONTENT: UNDEFINED
BAND_CONTENT: UNDEFINED
BITS_PER_PIXEL: 8
SAMPLES_AND_LINES: 5416 7644
HORIZONTAL_DATUM: NAD83
HORIZONTAL_COORDINATE_SYSTEM: UTM
COORDINATE_ZONE: 12
HORIZONTAL_UNITS: METERS
HORIZONTAL_RESOLUTION: 1.00000
SECONDARY_HORIZONTAL_DATUM: NAD27
XY_ORIGIN: 610450.00000 5373355.00000
SECONDARY_XY_ORIGIN: 610508.63800 5373137.29700
NATION: US
NATION: "SCIENCE
STATE: MT
NW_QUAD_CORNER_XY: 610806.24800 5372962.01700
NE_QUAD_CORNER_XY: 615423.03900 5373054.44900
SE_QUAD_CORNERY_XY: 615564.89300 5366107.57300
SW_QUAD_CORNER_XY: 610942.42500 5366015.11700
SECONDARY_NW_QUAD_XY: 610809.77100 5372743.07900
SECONDARY_NE_QUAD_XY: 615426.70900 5372835.51400
SECONDARY_SE_QUAD_XY: 615568.56300 5365888.64700
SECONDARY_SW_QUAD_XY: 610945.94800 5365796.18700
RMSE_XY: 2.00000
IMAGE_SOURCE: BLACK AND WHITE FILM
SOURCE_IMAGE_ID: NAPP 9159 049
SOURCE_IMAGE_DATE: 1997 09 22
SOURCE_DEM_DATE: 1993 00 00
AGENCY: WESTERN MAPPING CENTER (WMC)
PRODUCER: UNDEFINED
PRODUCTION_SYSTEM: GIS/MAGIC
COMPRESSION: UNDEFINED
STANDARD_VERSION: 1996 12
METADATA_DATE: 2000 11 09
DATA_FILE_SIZE: 41405320
BYTE_COUNT: 5416
