FILENAME: O4810937.SES.1119810.tif
QUADRANGLE_NAME: LLOYD NW
QUADRANT: SE
WEST_LONGITUDE: -109 26 15.00000
EAST_LONGITUDE: -109 22 30.00000
NORTH_LATITUDE: 48 26 15.00000
SOUTH_LATITUDE: 48 22 30.00000
PRODUCTION_DATE: 2000 10 17
RASTER_ORDER: LEFT_RIGHT/TOP_BOTTOM
BAND_ORGANIZATION: SINGLE FILE
BAND_CONTENT: BLACK&WHITE
BAND_CONTENT: UNDEFINED
BAND_CONTENT: UNDEFINED
BITS_PER_PIXEL: 8
SAMPLES_AND_LINES: 5427 7647
HORIZONTAL_DATUM: NAD83
HORIZONTAL_COORDINATE_SYSTEM: UTM
COORDINATE_ZONE: 12
HORIZONTAL_UNITS: METERS
HORIZONTAL_RESOLUTION: 1.00000
SECONDARY_HORIZONTAL_DATUM: NAD27
XY_ORIGIN: 615209.00000 5366504.00000
SECONDARY_XY_ORIGIN: 615267.56600 5366286.56400
NATION: US
NATION: "SCIENCE
STATE: MT
NW_QUAD_CORNER_XY: 615564.89300 5366107.57300
NE_QUAD_CORNER_XY: 620187.34500 5366203.80500
SE_QUAD_CORNERY_XY: 620334.73100 5359257.02500
SW_QUAD_CORNER_XY: 615706.60900 5359160.76800
SECONDARY_NW_QUAD_XY: 615568.56300 5365888.64700
SECONDARY_NE_QUAD_XY: 620191.16100 5365984.88200
SECONDARY_SE_QUAD_XY: 620338.54800 5359038.11100
SECONDARY_SW_QUAD_XY: 615710.27800 5358941.85100
RMSE_XY: 1.30000
IMAGE_SOURCE: BLACK AND WHITE FILM
SOURCE_IMAGE_ID: NAPP 9156 130
SOURCE_IMAGE_DATE: 1997 08 29
SOURCE_DEM_DATE: 1993 00 00
AGENCY: WESTERN MAPPING CENTER (WMC)
PRODUCER: UNDEFINED
PRODUCTION_SYSTEM: GIS/MAGIC
COMPRESSION: UNDEFINED
STANDARD_VERSION: 1996 12
METADATA_DATE: 2000 11 09
DATA_FILE_SIZE: 41505696
BYTE_COUNT: 5427
