FILENAME: O4810936.NES.1119794.tif
QUADRANGLE_NAME: SHAMBO NE
QUADRANT: NE
WEST_LONGITUDE: -109 33 45.00000
EAST_LONGITUDE: -109 30 0.00000
NORTH_LATITUDE: 48 30 0.00000
SOUTH_LATITUDE: 48 26 15.00000
PRODUCTION_DATE: 2000 10 25
RASTER_ORDER: LEFT_RIGHT/TOP_BOTTOM
BAND_ORGANIZATION: SINGLE FILE
BAND_CONTENT: BLACK&WHITE
BAND_CONTENT: UNDEFINED
BAND_CONTENT: UNDEFINED
BITS_PER_PIXEL: 8
SAMPLES_AND_LINES: 5411 7641
HORIZONTAL_DATUM: NAD83
HORIZONTAL_COORDINATE_SYSTEM: UTM
COORDINATE_ZONE: 12
HORIZONTAL_UNITS: METERS
HORIZONTAL_RESOLUTION: 1.00000
SECONDARY_HORIZONTAL_DATUM: NAD27
XY_ORIGIN: 605833.00000 5373263.00000
SECONDARY_XY_ORIGIN: 605891.73900 5373045.28300
NATION: US
NATION: "SCIENCE
STATE: MT
NW_QUAD_CORNER_XY: 606189.44000 5372873.35800
NE_QUAD_CORNER_XY: 610806.24800 5372962.01700
SE_QUAD_CORNERY_XY: 610942.42500 5366015.11700
SW_QUAD_CORNER_XY: 606319.94200 5365926.43500
SECONDARY_NW_QUAD_XY: 606192.81700 5372654.41800
SECONDARY_NE_QUAD_XY: 610809.77100 5372743.07900
SECONDARY_SE_QUAD_XY: 610945.94800 5365796.18700
SECONDARY_SW_QUAD_XY: 606323.31800 5365707.50300
RMSE_XY: 3.00000
IMAGE_SOURCE: BLACK AND WHITE FILM
SOURCE_IMAGE_ID: NAPP 9159 086
SOURCE_IMAGE_DATE: 1997 09 22
SOURCE_IMAGE_ID: NAPP 9159 164
SOURCE_IMAGE_DATE: 1997 09 22
SOURCE_DEM_DATE: 2000 01 01
AGENCY: WESTERN MAPPING CENTER (WMC)
PRODUCER: UNDEFINED
PRODUCTION_SYSTEM: GIS/MAGIC
COMPRESSION: UNDEFINED
STANDARD_VERSION: 1996 12
METADATA_DATE: 2000 11 09
DATA_FILE_SIZE: 41350862
BYTE_COUNT: 5411
