FILENAME: O4810936.SES.1119796.tif
QUADRANGLE_NAME: SHAMBO NE
QUADRANT: SE
WEST_LONGITUDE: -109 33 45.00000
EAST_LONGITUDE: -109 30 0.00000
NORTH_LATITUDE: 48 26 15.00000
SOUTH_LATITUDE: 48 22 30.00000
PRODUCTION_DATE: 2000 10 25
RASTER_ORDER: LEFT_RIGHT/TOP_BOTTOM
BAND_ORGANIZATION: SINGLE FILE
BAND_CONTENT: BLACK&WHITE
BAND_CONTENT: UNDEFINED
BAND_CONTENT: UNDEFINED
BITS_PER_PIXEL: 8
SAMPLES_AND_LINES: 5417 7641
HORIZONTAL_DATUM: NAD83
HORIZONTAL_COORDINATE_SYSTEM: UTM
COORDINATE_ZONE: 12
HORIZONTAL_UNITS: METERS
HORIZONTAL_RESOLUTION: 1.00000
SECONDARY_HORIZONTAL_DATUM: NAD27
XY_ORIGIN: 605963.00000 5366316.00000
SECONDARY_XY_ORIGIN: 606021.78100 5366098.50300
NATION: US
NATION: "SCIENCE
STATE: MT
NW_QUAD_CORNER_XY: 606319.94200 5365926.43500
NE_QUAD_CORNER_XY: 610942.42500 5366015.11700
SE_QUAD_CORNERY_XY: 611078.47000 5359068.28800
SW_QUAD_CORNER_XY: 606450.31600 5358979.58400
SECONDARY_NW_QUAD_XY: 606323.31800 5365707.50300
SECONDARY_NE_QUAD_XY: 610945.94800 5365796.18700
SECONDARY_SE_QUAD_XY: 611081.99300 5358849.36800
SECONDARY_SW_QUAD_XY: 606453.69200 5358760.66100
RMSE_XY: 2.00000
IMAGE_SOURCE: BLACK AND WHITE FILM
SOURCE_IMAGE_ID: NAPP 9159 088
SOURCE_IMAGE_DATE: 1997 09 22
SOURCE_IMAGE_ID: NAPP 9159 089
SOURCE_IMAGE_DATE: 1997 09 22
SOURCE_IMAGE_ID: NAPP 9159 087
SOURCE_IMAGE_DATE: 1997 09 22
SOURCE_DEM_DATE: 2000 01 01
AGENCY: WESTERN MAPPING CENTER (WMC)
PRODUCER: UNDEFINED
PRODUCTION_SYSTEM: GIS/MAGIC
COMPRESSION: UNDEFINED
STANDARD_VERSION: 1996 12
METADATA_DATE: 2000 11 09
DATA_FILE_SIZE: 41396714
BYTE_COUNT: 5417
