FILENAME: O4810936.SWS.1119797.tif
QUADRANGLE_NAME: SHAMBO NE
QUADRANT: SW
WEST_LONGITUDE: -109 37 30.00000
EAST_LONGITUDE: -109 33 45.00000
NORTH_LATITUDE: 48 26 15.00000
SOUTH_LATITUDE: 48 22 30.00000
PRODUCTION_DATE: 2000 10 25
RASTER_ORDER: LEFT_RIGHT/TOP_BOTTOM
BAND_ORGANIZATION: SINGLE FILE
BAND_CONTENT: BLACK&WHITE
BAND_CONTENT: UNDEFINED
BAND_CONTENT: UNDEFINED
BITS_PER_PIXEL: 8
SAMPLES_AND_LINES: 5412 7637
HORIZONTAL_DATUM: NAD83
HORIZONTAL_COORDINATE_SYSTEM: UTM
COORDINATE_ZONE: 12
HORIZONTAL_UNITS: METERS
HORIZONTAL_RESOLUTION: 1.00000
SECONDARY_HORIZONTAL_DATUM: NAD27
XY_ORIGIN: 601340.00000 5366227.00000
SECONDARY_XY_ORIGIN: 601398.87300 5366009.49800
NATION: US
NATION: "SCIENCE
STATE: MT
NW_QUAD_CORNER_XY: 601697.44300 5365841.52900
NE_QUAD_CORNER_XY: 606319.94200 5365926.43500
SE_QUAD_CORNERY_XY: 606450.31600 5358979.58400
SW_QUAD_CORNER_XY: 601822.14700 5358894.65500
SECONDARY_NW_QUAD_XY: 601700.67300 5365622.59400
SECONDARY_NE_QUAD_XY: 606323.31800 5365707.50300
SECONDARY_SE_QUAD_XY: 606453.69200 5358760.66100
SECONDARY_SW_QUAD_XY: 601825.37600 5358675.73000
RMSE_XY: 3.20000
IMAGE_SOURCE: BLACK AND WHITE FILM
SOURCE_IMAGE_ID: NAPP 9159 087
SOURCE_IMAGE_DATE: 1997 09 22
SOURCE_IMAGE_ID: NAPP 9159 205
SOURCE_IMAGE_DATE: 1997 09 22
SOURCE_IMAGE_ID: NAPP 9159 203
SOURCE_IMAGE_DATE: 1997 09 22
SOURCE_IMAGE_ID: NAPP 9159 164
SOURCE_IMAGE_DATE: 1997 09 22
SOURCE_IMAGE_ID: NAPP 9159 089
SOURCE_IMAGE_DATE: 1997 09 22
SOURCE_DEM_DATE: 2000 01 01
AGENCY: WESTERN MAPPING CENTER (WMC)
PRODUCER: UNDEFINED
PRODUCTION_SYSTEM: GIS/MAGIC
COMPRESSION: UNDEFINED
STANDARD_VERSION: 1996 12
METADATA_DATE: 2000 11 09
DATA_FILE_SIZE: 41336856
BYTE_COUNT: 5412
