FILENAME: O4810935.NES.1119749.tif
QUADRANGLE_NAME: CEMENT HILL
QUADRANT: NE
WEST_LONGITUDE: -109 41 15.00000
EAST_LONGITUDE: -109 37 30.00000
NORTH_LATITUDE: 48 30 0.00000
SOUTH_LATITUDE: 48 26 15.00000
PRODUCTION_DATE: 2000 10 25
RASTER_ORDER: LEFT_RIGHT/TOP_BOTTOM
BAND_ORGANIZATION: SINGLE FILE
BAND_CONTENT: BLACK&WHITE
BAND_CONTENT: UNDEFINED
BAND_CONTENT: UNDEFINED
BITS_PER_PIXEL: 8
SAMPLES_AND_LINES: 5401 7633
HORIZONTAL_DATUM: NAD83
HORIZONTAL_COORDINATE_SYSTEM: UTM
COORDINATE_ZONE: 12
HORIZONTAL_UNITS: METERS
HORIZONTAL_RESOLUTION: 1.00000
SECONDARY_HORIZONTAL_DATUM: NAD27
XY_ORIGIN: 596598.00000 5373089.00000
SECONDARY_XY_ORIGIN: 596656.95100 5372871.24600
NATION: US
NATION: "SCIENCE
STATE: MT
NW_QUAD_CORNER_XY: 596955.78000 5372707.36400
NE_QUAD_CORNER_XY: 601572.61800 5372788.47400
SE_QUAD_CORNERY_XY: 601697.44300 5365841.52900
SW_QUAD_CORNER_XY: 597074.93100 5365760.39700
SECONDARY_NW_QUAD_XY: 596958.86300 5372488.41800
SECONDARY_NE_QUAD_XY: 601575.84700 5372569.53100
SECONDARY_SE_QUAD_XY: 601700.67300 5365622.59400
SECONDARY_SW_QUAD_XY: 597078.01300 5365541.46000
RMSE_XY: 4.30000
IMAGE_SOURCE: BLACK AND WHITE FILM
SOURCE_IMAGE_ID: NAPP 9159 202
SOURCE_IMAGE_DATE: 1997 09 22
SOURCE_IMAGE_ID: NAPP 9159 201
SOURCE_IMAGE_DATE: 1997 09 22
SOURCE_IMAGE_ID: NAPP 9159 164
SOURCE_IMAGE_DATE: 1997 09 22
SOURCE_DEM_DATE: 2000 01 01
AGENCY: WESTERN MAPPING CENTER (WMC)
PRODUCER: UNDEFINED
PRODUCTION_SYSTEM: GIS/MAGIC
COMPRESSION: UNDEFINED
STANDARD_VERSION: 1996 12
METADATA_DATE: 2000 11 09
DATA_FILE_SIZE: 41231234
BYTE_COUNT: 5401
