FILENAME: O4810935.NWS.1119750.tif
QUADRANGLE_NAME: CEMENT HILL
QUADRANT: NW
WEST_LONGITUDE: -109 45 0.00000
EAST_LONGITUDE: -109 41 15.00000
NORTH_LATITUDE: 48 30 0.00000
SOUTH_LATITUDE: 48 26 15.00000
PRODUCTION_DATE: 2000 10 25
RASTER_ORDER: LEFT_RIGHT/TOP_BOTTOM
BAND_ORGANIZATION: SINGLE FILE
BAND_CONTENT: BLACK&WHITE
BAND_CONTENT: UNDEFINED
BAND_CONTENT: UNDEFINED
BITS_PER_PIXEL: 8
SAMPLES_AND_LINES: 5395 7629
HORIZONTAL_DATUM: NAD83
HORIZONTAL_COORDINATE_SYSTEM: UTM
COORDINATE_ZONE: 12
HORIZONTAL_UNITS: METERS
HORIZONTAL_RESOLUTION: 1.00000
SECONDARY_HORIZONTAL_DATUM: NAD27
XY_ORIGIN: 591981.00000 5373008.00000
SECONDARY_XY_ORIGIN: 592040.05700 5372790.22700
NATION: US
NATION: "SCIENCE
STATE: MT
NW_QUAD_CORNER_XY: 592338.92900 5372630.02700
NE_QUAD_CORNER_XY: 596955.78000 5372707.36400
SE_QUAD_CORNERY_XY: 597074.93100 5365760.39700
SW_QUAD_CORNER_XY: 592452.40400 5365683.04000
SECONDARY_NW_QUAD_XY: 592341.86500 5372411.07900
SECONDARY_NE_QUAD_XY: 596958.86300 5372488.41800
SECONDARY_SE_QUAD_XY: 597078.01300 5365541.46000
SECONDARY_SW_QUAD_XY: 592455.34000 5365464.10000
RMSE_XY: 2.00000
IMAGE_SOURCE: BLACK AND WHITE FILM
SOURCE_IMAGE_ID: NAPP 9160 077
SOURCE_IMAGE_DATE: 1997 09 23
SOURCE_DEM_DATE: 2000 01 01
AGENCY: WESTERN MAPPING CENTER (WMC)
PRODUCER: UNDEFINED
PRODUCTION_SYSTEM: GIS/MAGIC
COMPRESSION: UNDEFINED
STANDARD_VERSION: 1996 12
METADATA_DATE: 2000 11 09
DATA_FILE_SIZE: 41163850
BYTE_COUNT: 5395
