FILENAME: O4810935.SWS.1119752.tif
QUADRANGLE_NAME: CEMENT HILL
QUADRANT: SW
WEST_LONGITUDE: -109 45 0.00000
EAST_LONGITUDE: -109 41 15.00000
NORTH_LATITUDE: 48 26 15.00000
SOUTH_LATITUDE: 48 22 30.00000
PRODUCTION_DATE: 2000 10 25
RASTER_ORDER: LEFT_RIGHT/TOP_BOTTOM
BAND_ORGANIZATION: SINGLE FILE
BAND_CONTENT: BLACK&WHITE
BAND_CONTENT: UNDEFINED
BAND_CONTENT: UNDEFINED
BITS_PER_PIXEL: 8
SAMPLES_AND_LINES: 5400 7629
HORIZONTAL_DATUM: NAD83
HORIZONTAL_COORDINATE_SYSTEM: UTM
COORDINATE_ZONE: 12
HORIZONTAL_UNITS: METERS
HORIZONTAL_RESOLUTION: 1.00000
SECONDARY_HORIZONTAL_DATUM: NAD27
XY_ORIGIN: 592095.00000 5366061.00000
SECONDARY_XY_ORIGIN: 592154.05800 5365843.48600
NATION: US
NATION: "SCIENCE
STATE: MT
NW_QUAD_CORNER_XY: 592452.40400 5365683.04000
NE_QUAD_CORNER_XY: 597074.93100 5365760.39700
SE_QUAD_CORNERY_XY: 597193.96400 5358813.50300
SW_QUAD_CORNER_XY: 592565.76800 5358736.12600
SECONDARY_NW_QUAD_XY: 592455.34000 5365464.10000
SECONDARY_NE_QUAD_XY: 597078.01300 5365541.46000
SECONDARY_SE_QUAD_XY: 597197.04700 5358594.57400
SECONDARY_SW_QUAD_XY: 592568.70300 5358517.19500
RMSE_XY: 3.70000
IMAGE_SOURCE: BLACK AND WHITE FILM
SOURCE_IMAGE_ID: NAPP 9160 079
SOURCE_IMAGE_DATE: 1997 09 23
SOURCE_IMAGE_ID: NAPP 9160 036
SOURCE_IMAGE_DATE: 1997 09 23
SOURCE_IMAGE_ID: NAPP 9160 080
SOURCE_IMAGE_DATE: 1997 09 23
SOURCE_IMAGE_ID: NAPP 9160 078
SOURCE_IMAGE_DATE: 1997 09 23
SOURCE_DEM_DATE: 2000 01 01
AGENCY: WESTERN MAPPING CENTER (WMC)
PRODUCER: UNDEFINED
PRODUCTION_SYSTEM: GIS/MAGIC
COMPRESSION: UNDEFINED
STANDARD_VERSION: 1996 12
METADATA_DATE: 2000 11 09
DATA_FILE_SIZE: 41202000
BYTE_COUNT: 5400
