FILENAME: O4810934.SES.1119743.tif
QUADRANGLE_NAME: LAREDO NE
QUADRANT: SE
WEST_LONGITUDE: -109 48 45.00000
EAST_LONGITUDE: -109 45 0.00000
NORTH_LATITUDE: 48 26 15.00000
SOUTH_LATITUDE: 48 22 30.00000
PRODUCTION_DATE: 2000 10 25
RASTER_ORDER: LEFT_RIGHT/TOP_BOTTOM
BAND_ORGANIZATION: SINGLE FILE
BAND_CONTENT: BLACK&WHITE
BAND_CONTENT: UNDEFINED
BAND_CONTENT: UNDEFINED
BITS_PER_PIXEL: 8
SAMPLES_AND_LINES: 5395 7626
HORIZONTAL_DATUM: NAD83
HORIZONTAL_COORDINATE_SYSTEM: UTM
COORDINATE_ZONE: 12
HORIZONTAL_UNITS: METERS
HORIZONTAL_RESOLUTION: 1.00000
SECONDARY_HORIZONTAL_DATUM: NAD27
XY_ORIGIN: 587472.00000 5365984.00000
SECONDARY_XY_ORIGIN: 587531.00500 5365766.56100
NATION: US
NATION: "SCIENCE
STATE: MT
NW_QUAD_CORNER_XY: 587829.86400 5365609.45800
NE_QUAD_CORNER_XY: 592452.40400 5365683.04000
SE_QUAD_CORNERY_XY: 592565.76800 5358736.12600
SW_QUAD_CORNER_XY: 587937.55900 5358662.52400
SECONDARY_NW_QUAD_XY: 587832.65300 5365390.51500
SECONDARY_NE_QUAD_XY: 592455.34000 5365464.10000
SECONDARY_SE_QUAD_XY: 592568.70300 5358517.19500
SECONDARY_SW_QUAD_XY: 587940.34700 5358443.59100
RMSE_XY: 1.40000
IMAGE_SOURCE: BLACK AND WHITE FILM
SOURCE_IMAGE_ID: NAPP 9128 119
SOURCE_IMAGE_DATE: 1996 07 29
SOURCE_IMAGE_ID: NAPP 9128 118
SOURCE_IMAGE_DATE: 1996 07 29
SOURCE_DEM_DATE: 2000 01 01
AGENCY: WESTERN MAPPING CENTER (WMC)
PRODUCER: UNDEFINED
PRODUCTION_SYSTEM: GIS/MAGIC
COMPRESSION: UNDEFINED
STANDARD_VERSION: 1996 12
METADATA_DATE: 2000 11 09
DATA_FILE_SIZE: 41147665
BYTE_COUNT: 5395
