FILENAME: O4810934.SWS.1119744.tif
QUADRANGLE_NAME: LAREDO NE
QUADRANT: SW
WEST_LONGITUDE: -109 52 30.00000
EAST_LONGITUDE: -109 48 45.00000
NORTH_LATITUDE: 48 26 15.00000
SOUTH_LATITUDE: 48 22 30.00000
PRODUCTION_DATE: 2000 10 25
RASTER_ORDER: LEFT_RIGHT/TOP_BOTTOM
BAND_ORGANIZATION: SINGLE FILE
BAND_CONTENT: BLACK&WHITE
BAND_CONTENT: UNDEFINED
BAND_CONTENT: UNDEFINED
BITS_PER_PIXEL: 8
SAMPLES_AND_LINES: 5390 7622
HORIZONTAL_DATUM: NAD83
HORIZONTAL_COORDINATE_SYSTEM: UTM
COORDINATE_ZONE: 12
HORIZONTAL_UNITS: METERS
HORIZONTAL_RESOLUTION: 1.00000
SECONDARY_HORIZONTAL_DATUM: NAD27
XY_ORIGIN: 582849.00000 5365910.00000
SECONDARY_XY_ORIGIN: 582907.95700 5365692.63400
NATION: US
NATION: "SCIENCE
STATE: MT
NW_QUAD_CORNER_XY: 583207.31200 5365539.64900
NE_QUAD_CORNER_XY: 587829.86400 5365609.45800
SE_QUAD_CORNERY_XY: 587937.55900 5358662.52400
SW_QUAD_CORNER_XY: 583309.33700 5358592.69800
SECONDARY_NW_QUAD_XY: 583209.95400 5365320.70500
SECONDARY_NE_QUAD_XY: 587832.65300 5365390.51500
SECONDARY_SE_QUAD_XY: 587940.34700 5358443.59100
SECONDARY_SW_QUAD_XY: 583311.97900 5358373.76300
RMSE_XY: 2.20000
IMAGE_SOURCE: BLACK AND WHITE FILM
SOURCE_IMAGE_ID: NAPP 9128 202
SOURCE_IMAGE_DATE: 1996 07 29
SOURCE_DEM_DATE: 2000 01 01
AGENCY: WESTERN MAPPING CENTER (WMC)
PRODUCER: UNDEFINED
PRODUCTION_SYSTEM: GIS/MAGIC
COMPRESSION: UNDEFINED
STANDARD_VERSION: 1996 12
METADATA_DATE: 2000 11 09
DATA_FILE_SIZE: 41087970
BYTE_COUNT: 5390
