FILENAME: O4810933.SES.1115138.tif
QUADRANGLE_NAME: LAREDO
QUADRANT: SE
WEST_LONGITUDE: -109 56 15.00000
EAST_LONGITUDE: -109 52 30.00000
NORTH_LATITUDE: 48 26 15.00000
SOUTH_LATITUDE: 48 22 30.00000
PRODUCTION_DATE: 2000 10 25
RASTER_ORDER: LEFT_RIGHT/TOP_BOTTOM
BAND_ORGANIZATION: SINGLE FILE
BAND_CONTENT: BLACK&WHITE
BAND_CONTENT: UNDEFINED
BAND_CONTENT: UNDEFINED
BITS_PER_PIXEL: 8
SAMPLES_AND_LINES: 5384 7618
HORIZONTAL_DATUM: NAD83
HORIZONTAL_COORDINATE_SYSTEM: UTM
COORDINATE_ZONE: 12
HORIZONTAL_UNITS: METERS
HORIZONTAL_RESOLUTION: 1.00000
SECONDARY_HORIZONTAL_DATUM: NAD27
XY_ORIGIN: 578227.00000 5365840.00000
SECONDARY_XY_ORIGIN: 578285.90800 5365622.70700
NATION: US
NATION: "SCIENCE
STATE: MT
NW_QUAD_CORNER_XY: 578584.74800 5365473.61500
NE_QUAD_CORNER_XY: 583207.31200 5365539.64900
SE_QUAD_CORNERY_XY: 583309.33700 5358592.69800
SW_QUAD_CORNER_XY: 578681.10400 5358526.64700
SECONDARY_NW_QUAD_XY: 578587.24400 5365254.66900
SECONDARY_NE_QUAD_XY: 583209.95400 5365320.70500
SECONDARY_SE_QUAD_XY: 583311.97900 5358373.76300
SECONDARY_SW_QUAD_XY: 578683.59900 5358307.71000
RMSE_XY: 1.80000
IMAGE_SOURCE: BLACK AND WHITE FILM
SOURCE_IMAGE_ID: NAPP 9128 243
SOURCE_IMAGE_DATE: 1996 07 29
SOURCE_DEM_DATE: 1993 00 00
AGENCY: WESTERN MAPPING CENTER (WMC)
PRODUCER: UNDEFINED
PRODUCTION_SYSTEM: GIS/MAGIC
COMPRESSION: UNDEFINED
STANDARD_VERSION: 1996 12
METADATA_DATE: 2000 11 08
DATA_FILE_SIZE: 41020696
BYTE_COUNT: 5384
