FILENAME: O4810933.SWS.1115139.tif
QUADRANGLE_NAME: LAREDO
QUADRANT: SW
WEST_LONGITUDE: -110 0 0.00000
EAST_LONGITUDE: -109 56 15.00000
NORTH_LATITUDE: 48 26 15.00000
SOUTH_LATITUDE: 48 22 30.00000
PRODUCTION_DATE: 2000 10 24
RASTER_ORDER: LEFT_RIGHT/TOP_BOTTOM
BAND_ORGANIZATION: SINGLE FILE
BAND_CONTENT: BLACK&WHITE
BAND_CONTENT: UNDEFINED
BAND_CONTENT: UNDEFINED
BITS_PER_PIXEL: 8
SAMPLES_AND_LINES: 5379 7614
HORIZONTAL_DATUM: NAD83
HORIZONTAL_COORDINATE_SYSTEM: UTM
COORDINATE_ZONE: 12
HORIZONTAL_UNITS: METERS
HORIZONTAL_RESOLUTION: 1.00000
SECONDARY_HORIZONTAL_DATUM: NAD27
XY_ORIGIN: 573604.00000 5365774.00000
SECONDARY_XY_ORIGIN: 573662.86000 5365556.78000
NATION: US
NATION: "SCIENCE
STATE: MT
NW_QUAD_CORNER_XY: 573962.17300 5365411.35500
NE_QUAD_CORNER_XY: 578584.74800 5365473.61500
SE_QUAD_CORNERY_XY: 578681.10400 5358526.64700
SW_QUAD_CORNER_XY: 574052.86000 5358464.37100
SECONDARY_NW_QUAD_XY: 573964.52200 5365192.40700
SECONDARY_NE_QUAD_XY: 578587.24400 5365254.66900
SECONDARY_SE_QUAD_XY: 578683.59900 5358307.71000
SECONDARY_SW_QUAD_XY: 574055.20900 5358245.43200
RMSE_XY: 1.90000
IMAGE_SOURCE: BLACK AND WHITE FILM
SOURCE_IMAGE_ID: NAPP 9158 031
SOURCE_IMAGE_DATE: 1997 09 04
SOURCE_DEM_DATE: 1993 00 00
AGENCY: WESTERN MAPPING CENTER (WMC)
PRODUCER: UNDEFINED
PRODUCTION_SYSTEM: GIS/MAGIC
COMPRESSION: UNDEFINED
STANDARD_VERSION: 1996 12
METADATA_DATE: 2000 11 08
DATA_FILE_SIZE: 40961085
BYTE_COUNT: 5379
