FILENAME: O4810932.NES.1115727.tif
QUADRANGLE_NAME: ZURICH
QUADRANT: NE
WEST_LONGITUDE: -109 3 45.00000
EAST_LONGITUDE: -109 0 0.00000
NORTH_LATITUDE: 48 37 30.00000
SOUTH_LATITUDE: 48 33 45.00000
PRODUCTION_DATE: 2000 11 10
RASTER_ORDER: LEFT_RIGHT/TOP_BOTTOM
BAND_ORGANIZATION: SINGLE FILE
BAND_CONTENT: BLACK&WHITE
BAND_CONTENT: UNDEFINED
BAND_CONTENT: UNDEFINED
BITS_PER_PIXEL: 8
SAMPLES_AND_LINES: 5444 7670
HORIZONTAL_DATUM: NAD83
HORIZONTAL_COORDINATE_SYSTEM: UTM
COORDINATE_ZONE: 12
HORIZONTAL_UNITS: METERS
HORIZONTAL_RESOLUTION: 1.00000
SECONDARY_HORIZONTAL_DATUM: NAD27
XY_ORIGIN: 642416.00000 5388001.00000
SECONDARY_XY_ORIGIN: 642473.72700 5387783.36200
NATION: US
NATION: "SCIENCE
STATE: MT
NW_QUAD_CORNER_XY: 642771.06500 5387581.92900
NE_QUAD_CORNER_XY: 647376.35300 5387700.72200
SE_QUAD_CORNERY_XY: 647558.30300 5380753.91100
SW_QUAD_CORNER_XY: 642947.32600 5380635.08600
SECONDARY_NW_QUAD_XY: 642775.61600 5387363.00000
SECONDARY_NE_QUAD_XY: 647381.05100 5387481.79600
SECONDARY_SE_QUAD_XY: 647563.00100 5380534.99200
SECONDARY_SW_QUAD_XY: 642951.87700 5380416.16400
RMSE_XY: 1.80000
IMAGE_SOURCE: BLACK AND WHITE FILM
SOURCE_IMAGE_ID: NAPP 9129 008
SOURCE_IMAGE_DATE: 1996 07 27
SOURCE_IMAGE_ID: NAPP 9145 160
SOURCE_IMAGE_DATE: 1996 08 25
SOURCE_IMAGE_ID: NAPP 9147 179
SOURCE_IMAGE_DATE: 1996 08 24
SOURCE_DEM_DATE: 1993 00 00
AGENCY: WESTERN MAPPING CENTER (WMC)
PRODUCER: UNDEFINED
PRODUCTION_SYSTEM: GIS/MAGIC
COMPRESSION: UNDEFINED
STANDARD_VERSION: 1996 12
METADATA_DATE: 2000 11 10
DATA_FILE_SIZE: 41760924
BYTE_COUNT: 5444
