FILENAME: O4810932.NWS.1115728.tif
QUADRANGLE_NAME: ZURICH
QUADRANT: NW
WEST_LONGITUDE: -109 7 30.00000
EAST_LONGITUDE: -109 3 45.00000
NORTH_LATITUDE: 48 37 30.00000
SOUTH_LATITUDE: 48 33 45.00000
PRODUCTION_DATE: 2000 10 30
RASTER_ORDER: LEFT_RIGHT/TOP_BOTTOM
BAND_ORGANIZATION: SINGLE FILE
BAND_CONTENT: BLACK&WHITE
BAND_CONTENT: UNDEFINED
BAND_CONTENT: UNDEFINED
BITS_PER_PIXEL: 8
SAMPLES_AND_LINES: 5438 7666
HORIZONTAL_DATUM: NAD83
HORIZONTAL_COORDINATE_SYSTEM: UTM
COORDINATE_ZONE: 12
HORIZONTAL_UNITS: METERS
HORIZONTAL_RESOLUTION: 1.00000
SECONDARY_HORIZONTAL_DATUM: NAD27
XY_ORIGIN: 637811.00000 5387882.00000
SECONDARY_XY_ORIGIN: 637868.77900 5387664.29500
NATION: US
NATION: "SCIENCE
STATE: MT
NW_QUAD_CORNER_XY: 638165.75600 5387466.91000
NE_QUAD_CORNER_XY: 642771.06500 5387581.92900
SE_QUAD_CORNERY_XY: 642947.32600 5380635.08600
SW_QUAD_CORNER_XY: 638336.32800 5380520.03600
SECONDARY_NW_QUAD_XY: 638170.16000 5387247.97700
SECONDARY_NE_QUAD_XY: 642775.61600 5387363.00000
SECONDARY_SE_QUAD_XY: 642951.87700 5380416.16400
SECONDARY_SW_QUAD_XY: 638340.73200 5380301.11000
RMSE_XY: 1.30000
IMAGE_SOURCE: BLACK AND WHITE FILM
SOURCE_IMAGE_ID: NAPP 9129 230
SOURCE_IMAGE_DATE: 1996 07 27
SOURCE_DEM_DATE: 1993 00 00
AGENCY: WESTERN MAPPING CENTER (WMC)
PRODUCER: UNDEFINED
PRODUCTION_SYSTEM: GIS/MAGIC
COMPRESSION: UNDEFINED
STANDARD_VERSION: 1996 12
METADATA_DATE: 2000 11 10
DATA_FILE_SIZE: 41693146
BYTE_COUNT: 5438
