FILENAME: O4810931.SES.1115709.tif
QUADRANGLE_NAME: CHINOOK
QUADRANT: SE
WEST_LONGITUDE: -109 11 15.00000
EAST_LONGITUDE: -109 7 30.00000
NORTH_LATITUDE: 48 33 45.00000
SOUTH_LATITUDE: 48 30 0.00000
PRODUCTION_DATE: 2000 11 10
RASTER_ORDER: LEFT_RIGHT/TOP_BOTTOM
BAND_ORGANIZATION: SINGLE FILE
BAND_CONTENT: BLACK&WHITE
BAND_CONTENT: UNDEFINED
BAND_CONTENT: UNDEFINED
BITS_PER_PIXEL: 8
SAMPLES_AND_LINES: 5438 7663
HORIZONTAL_DATUM: NAD83
HORIZONTAL_COORDINATE_SYSTEM: UTM
COORDINATE_ZONE: 12
HORIZONTAL_UNITS: METERS
HORIZONTAL_RESOLUTION: 1.00000
SECONDARY_HORIZONTAL_DATUM: NAD27
XY_ORIGIN: 633370.00000 5380821.00000
SECONDARY_XY_ORIGIN: 633427.94700 5380603.42800
NATION: US
NATION: "SCIENCE
STATE: MT
NW_QUAD_CORNER_XY: 633725.31000 5380408.76000
NE_QUAD_CORNER_XY: 638336.32800 5380520.03600
SE_QUAD_CORNERY_XY: 638506.73400 5373573.22900
SW_QUAD_CORNER_XY: 633890.03300 5373461.92300
SECONDARY_NW_QUAD_XY: 633729.56700 5380189.83000
SECONDARY_NE_QUAD_XY: 638340.73200 5380301.11000
SECONDARY_SE_QUAD_XY: 638511.13800 5373354.31000
SECONDARY_SW_QUAD_XY: 633894.29000 5373243.00100
RMSE_XY: 2.10000
IMAGE_SOURCE: BLACK AND WHITE FILM
SOURCE_IMAGE_ID: NAPP 9130 016
SOURCE_IMAGE_DATE: 1996 07 27
SOURCE_IMAGE_ID: NAPP 9130 015
SOURCE_IMAGE_DATE: 1996 07 27
SOURCE_IMAGE_ID: NAPP 9129 227
SOURCE_IMAGE_DATE: 1996 07 27
SOURCE_DEM_DATE: 1993 00 00
AGENCY: WESTERN MAPPING CENTER (WMC)
PRODUCER: UNDEFINED
PRODUCTION_SYSTEM: GIS/MAGIC
COMPRESSION: UNDEFINED
STANDARD_VERSION: 1996 12
METADATA_DATE: 2000 11 10
DATA_FILE_SIZE: 41676832
BYTE_COUNT: 5438
