FILENAME: O4810931.SWS.1115710.tif
QUADRANGLE_NAME: CHINOOK
QUADRANT: SW
WEST_LONGITUDE: -109 15 0.00000
EAST_LONGITUDE: -109 11 15.00000
NORTH_LATITUDE: 48 33 45.00000
SOUTH_LATITUDE: 48 30 0.00000
PRODUCTION_DATE: 2000 10 30
RASTER_ORDER: LEFT_RIGHT/TOP_BOTTOM
BAND_ORGANIZATION: SINGLE FILE
BAND_CONTENT: BLACK&WHITE
BAND_CONTENT: UNDEFINED
BAND_CONTENT: UNDEFINED
BITS_PER_PIXEL: 8
SAMPLES_AND_LINES: 5433 7659
HORIZONTAL_DATUM: NAD83
HORIZONTAL_COORDINATE_SYSTEM: UTM
COORDINATE_ZONE: 12
HORIZONTAL_UNITS: METERS
HORIZONTAL_RESOLUTION: 1.00000
SECONDARY_HORIZONTAL_DATUM: NAD27
XY_ORIGIN: 628759.00000 5380709.00000
SECONDARY_XY_ORIGIN: 628816.99300 5380491.36600
NATION: US
NATION: "SCIENCE
STATE: MT
NW_QUAD_CORNER_XY: 629114.27200 5380301.25800
NE_QUAD_CORNER_XY: 633725.31000 5380408.76000
SE_QUAD_CORNERY_XY: 633890.03300 5373461.92300
SW_QUAD_CORNER_XY: 629273.31100 5373354.39200
SECONDARY_NW_QUAD_XY: 629118.38200 5380082.32500
SECONDARY_NE_QUAD_XY: 633729.56700 5380189.83000
SECONDARY_SE_QUAD_XY: 633894.29000 5373243.00100
SECONDARY_SW_QUAD_XY: 629277.42200 5373135.46700
RMSE_XY: 1.70000
IMAGE_SOURCE: BLACK AND WHITE FILM
SOURCE_IMAGE_ID: NAPP 9145 048
SOURCE_IMAGE_DATE: 1996 08 25
SOURCE_DEM_DATE: 1993 00 00
AGENCY: WESTERN MAPPING CENTER (WMC)
PRODUCER: UNDEFINED
PRODUCTION_SYSTEM: GIS/MAGIC
COMPRESSION: UNDEFINED
STANDARD_VERSION: 1996 12
METADATA_DATE: 2000 11 10
DATA_FILE_SIZE: 41616780
BYTE_COUNT: 5433
