FILENAME: O4810930.NES.1115687.tif
QUADRANGLE_NAME: LOHMAN SE
QUADRANT: NE
WEST_LONGITUDE: -109 18 45.00000
EAST_LONGITUDE: -109 15 0.00000
NORTH_LATITUDE: 48 37 30.00000
SOUTH_LATITUDE: 48 33 45.00000
PRODUCTION_DATE: 2000 10 30
RASTER_ORDER: LEFT_RIGHT/TOP_BOTTOM
BAND_ORGANIZATION: SINGLE FILE
BAND_CONTENT: BLACK&WHITE
BAND_CONTENT: UNDEFINED
BAND_CONTENT: UNDEFINED
BITS_PER_PIXEL: 8
SAMPLES_AND_LINES: 5422 7655
HORIZONTAL_DATUM: NAD83
HORIZONTAL_COORDINATE_SYSTEM: UTM
COORDINATE_ZONE: 12
HORIZONTAL_UNITS: METERS
HORIZONTAL_RESOLUTION: 1.00000
SECONDARY_HORIZONTAL_DATUM: NAD27
XY_ORIGIN: 623994.00000 5387549.00000
SECONDARY_XY_ORIGIN: 624052.01800 5387331.09600
NATION: US
NATION: "SCIENCE
STATE: MT
NW_QUAD_CORNER_XY: 624349.70900 5387144.49200
NE_QUAD_CORNER_XY: 628955.07700 5387248.19200
SE_QUAD_CORNERY_XY: 629114.27200 5380301.25800
SW_QUAD_CORNER_XY: 624503.21500 5380197.53000
SECONDARY_NW_QUAD_XY: 624353.67200 5386925.54900
SECONDARY_NE_QUAD_XY: 628959.18800 5387029.25200
SECONDARY_SE_QUAD_XY: 629118.38200 5380082.32500
SECONDARY_SW_QUAD_XY: 624507.17900 5379978.59300
RMSE_XY: 1.50000
IMAGE_SOURCE: BLACK AND WHITE FILM
SOURCE_IMAGE_ID: NAPP 9145 079
SOURCE_IMAGE_DATE: 1996 08 25
SOURCE_DEM_DATE: 1993 00 00
AGENCY: WESTERN MAPPING CENTER (WMC)
PRODUCER: UNDEFINED
PRODUCTION_SYSTEM: GIS/MAGIC
COMPRESSION: UNDEFINED
STANDARD_VERSION: 1996 12
METADATA_DATE: 2000 11 10
DATA_FILE_SIZE: 41510832
BYTE_COUNT: 5422
