FILENAME: O4810929.NWS.1119829.tif
QUADRANGLE_NAME: LOHMAN
QUADRANT: NW
WEST_LONGITUDE: -109 30 0.00000
EAST_LONGITUDE: -109 26 15.00000
NORTH_LATITUDE: 48 37 30.00000
SOUTH_LATITUDE: 48 33 45.00000
PRODUCTION_DATE: 2000 10 17
RASTER_ORDER: LEFT_RIGHT/TOP_BOTTOM
BAND_ORGANIZATION: SINGLE FILE
BAND_CONTENT: BLACK&WHITE
BAND_CONTENT: UNDEFINED
BAND_CONTENT: UNDEFINED
BITS_PER_PIXEL: 8
SAMPLES_AND_LINES: 5406 7644
HORIZONTAL_DATUM: NAD83
HORIZONTAL_COORDINATE_SYSTEM: UTM
COORDINATE_ZONE: 12
HORIZONTAL_UNITS: METERS
HORIZONTAL_RESOLUTION: 1.00000
SECONDARY_HORIZONTAL_DATUM: NAD27
XY_ORIGIN: 610177.00000 5387249.00000
SECONDARY_XY_ORIGIN: 610235.40200 5387030.91500
NATION: US
NATION: "SCIENCE
STATE: MT
NW_QUAD_CORNER_XY: 610533.49400 5386856.02800
NE_QUAD_CORNER_XY: 615138.91600 5386948.41000
SE_QUAD_CORNERY_XY: 615281.04700 5380001.39400
SW_QUAD_CORNER_XY: 610669.93700 5379908.98700
SECONDARY_NW_QUAD_XY: 610537.01700 5386637.07500
SECONDARY_NE_QUAD_XY: 615142.58700 5386729.46100
SECONDARY_SE_QUAD_XY: 615284.71700 5379782.45200
SECONDARY_SW_QUAD_XY: 610673.46100 5379690.04100
RMSE_XY: 2.50000
IMAGE_SOURCE: BLACK AND WHITE FILM
SOURCE_IMAGE_ID: NAPP 9159 053
SOURCE_IMAGE_DATE: 1997 09 22
SOURCE_DEM_DATE: 1993 00 00
AGENCY: WESTERN MAPPING CENTER (WMC)
PRODUCER: UNDEFINED
PRODUCTION_SYSTEM: GIS/MAGIC
COMPRESSION: UNDEFINED
STANDARD_VERSION: 1996 12
METADATA_DATE: 2000 11 09
DATA_FILE_SIZE: 41328870
BYTE_COUNT: 5406
