FILENAME: O4810929.SES.1119830.tif
QUADRANGLE_NAME: LOHMAN
QUADRANT: SE
WEST_LONGITUDE: -109 26 15.00000
EAST_LONGITUDE: -109 22 30.00000
NORTH_LATITUDE: 48 33 45.00000
SOUTH_LATITUDE: 48 30 0.00000
PRODUCTION_DATE: 2000 10 17
RASTER_ORDER: LEFT_RIGHT/TOP_BOTTOM
BAND_ORGANIZATION: SINGLE FILE
BAND_CONTENT: BLACK&WHITE
BAND_CONTENT: UNDEFINED
BAND_CONTENT: UNDEFINED
BITS_PER_PIXEL: 8
SAMPLES_AND_LINES: 5416 7647
HORIZONTAL_DATUM: NAD83
HORIZONTAL_COORDINATE_SYSTEM: UTM
COORDINATE_ZONE: 12
HORIZONTAL_UNITS: METERS
HORIZONTAL_RESOLUTION: 1.00000
SECONDARY_HORIZONTAL_DATUM: NAD27
XY_ORIGIN: 614925.00000 5380398.00000
SECONDARY_XY_ORIGIN: 614983.38900 5380180.16900
NATION: US
NATION: "SCIENCE
STATE: MT
NW_QUAD_CORNER_XY: 615281.04700 5380001.39400
NE_QUAD_CORNER_XY: 619892.14000 5380097.57500
SE_QUAD_CORNERY_XY: 620039.81400 5373150.65500
SW_QUAD_CORNER_XY: 615423.03900 5373054.44900
SECONDARY_NW_QUAD_XY: 615284.71700 5379782.45200
SECONDARY_NE_QUAD_XY: 619895.95700 5379878.63600
SECONDARY_SE_QUAD_XY: 620043.63100 5372931.72400
SECONDARY_SW_QUAD_XY: 615426.70900 5372835.51400
RMSE_XY: 1.80000
IMAGE_SOURCE: BLACK AND WHITE FILM
SOURCE_IMAGE_ID: NAPP 9156 126
SOURCE_IMAGE_DATE: 1997 08 29
SOURCE_IMAGE_ID: NAPP 9159 052
SOURCE_IMAGE_DATE: 1997 09 22
SOURCE_DEM_DATE: 1993 00 00
AGENCY: WESTERN MAPPING CENTER (WMC)
PRODUCER: UNDEFINED
PRODUCTION_SYSTEM: GIS/MAGIC
COMPRESSION: UNDEFINED
STANDARD_VERSION: 1996 12
METADATA_DATE: 2000 11 09
DATA_FILE_SIZE: 41421568
BYTE_COUNT: 5416
