FILENAME: O4810927.SWS.1119748.tif
QUADRANGLE_NAME: HAVRE
QUADRANT: SW
WEST_LONGITUDE: -109 45 0.00000
EAST_LONGITUDE: -109 41 15.00000
NORTH_LATITUDE: 48 33 45.00000
SOUTH_LATITUDE: 48 30 0.00000
PRODUCTION_DATE: 2000 10 25
RASTER_ORDER: LEFT_RIGHT/TOP_BOTTOM
BAND_ORGANIZATION: SINGLE FILE
BAND_CONTENT: BLACK&WHITE
BAND_CONTENT: UNDEFINED
BAND_CONTENT: UNDEFINED
BITS_PER_PIXEL: 8
SAMPLES_AND_LINES: 5389 7629
HORIZONTAL_DATUM: NAD83
HORIZONTAL_COORDINATE_SYSTEM: UTM
COORDINATE_ZONE: 12
HORIZONTAL_UNITS: METERS
HORIZONTAL_RESOLUTION: 1.00000
SECONDARY_HORIZONTAL_DATUM: NAD27
XY_ORIGIN: 591868.00000 5379955.00000
SECONDARY_XY_ORIGIN: 591926.91600 5379737.06700
NATION: US
NATION: "SCIENCE
STATE: MT
NW_QUAD_CORNER_XY: 592225.34400 5379577.08600
NE_QUAD_CORNER_XY: 596836.51400 5379654.40200
SE_QUAD_CORNERY_XY: 596955.78000 5372707.36400
SW_QUAD_CORNER_XY: 592338.92900 5372630.02700
SECONDARY_NW_QUAD_XY: 592228.27900 5379358.13000
SECONDARY_NE_QUAD_XY: 596839.59700 5379435.44900
SECONDARY_SE_QUAD_XY: 596958.86300 5372488.41800
SECONDARY_SW_QUAD_XY: 592341.86500 5372411.07900
RMSE_XY: 1.70000
IMAGE_SOURCE: BLACK AND WHITE FILM
SOURCE_IMAGE_ID: NAPP 9160 075
SOURCE_IMAGE_DATE: 1997 09 23
SOURCE_DEM_DATE: 2000 01 01
AGENCY: WESTERN MAPPING CENTER (WMC)
PRODUCER: UNDEFINED
PRODUCTION_SYSTEM: GIS/MAGIC
COMPRESSION: UNDEFINED
STANDARD_VERSION: 1996 12
METADATA_DATE: 2000 11 09
DATA_FILE_SIZE: 41118070
BYTE_COUNT: 5389
