FILENAME: O4810926.NES.1119737.tif
QUADRANGLE_NAME: HERRON PARK
QUADRANT: NE
WEST_LONGITUDE: -109 48 45.00000
EAST_LONGITUDE: -109 45 0.00000
NORTH_LATITUDE: 48 37 30.00000
SOUTH_LATITUDE: 48 33 45.00000
PRODUCTION_DATE: 2000 10 25
RASTER_ORDER: LEFT_RIGHT/TOP_BOTTOM
BAND_ORGANIZATION: SINGLE FILE
BAND_CONTENT: BLACK&WHITE
BAND_CONTENT: UNDEFINED
BAND_CONTENT: UNDEFINED
BITS_PER_PIXEL: 8
SAMPLES_AND_LINES: 5378 7625
HORIZONTAL_DATUM: NAD83
HORIZONTAL_COORDINATE_SYSTEM: UTM
COORDINATE_ZONE: 12
HORIZONTAL_UNITS: METERS
HORIZONTAL_RESOLUTION: 1.00000
SECONDARY_HORIZONTAL_DATUM: NAD27
XY_ORIGIN: 587149.00000 5386825.00000
SECONDARY_XY_ORIGIN: 587207.72500 5386606.94800
NATION: US
NATION: "SCIENCE
STATE: MT
NW_QUAD_CORNER_XY: 587506.15000 5386450.69400
NE_QUAD_CORNER_XY: 592111.64700 5386524.21700
SE_QUAD_CORNERY_XY: 592225.34400 5379577.08600
SW_QUAD_CORNER_XY: 587614.16000 5379503.54200
SECONDARY_NW_QUAD_XY: 587508.93900 5386231.72800
SECONDARY_NE_QUAD_XY: 592114.58300 5386305.25400
SECONDARY_SE_QUAD_XY: 592228.27900 5379358.13000
SECONDARY_SW_QUAD_XY: 587616.94900 5379284.58400
RMSE_XY: 1.30000
IMAGE_SOURCE: BLACK AND WHITE FILM
SOURCE_IMAGE_ID: NAPP 9128 113
SOURCE_IMAGE_DATE: 1996 07 29
SOURCE_DEM_DATE: 1993 00 00
AGENCY: WESTERN MAPPING CENTER (WMC)
PRODUCER: UNDEFINED
PRODUCTION_SYSTEM: GIS/MAGIC
COMPRESSION: UNDEFINED
STANDARD_VERSION: 1996 12
METADATA_DATE: 2000 11 09
DATA_FILE_SIZE: 41012628
BYTE_COUNT: 5378
