FILENAME: O4810926.NWS.1119738.tif
QUADRANGLE_NAME: HERRON PARK
QUADRANT: NW
WEST_LONGITUDE: -109 52 30.00000
EAST_LONGITUDE: -109 48 45.00000
NORTH_LATITUDE: 48 37 30.00000
SOUTH_LATITUDE: 48 33 45.00000
PRODUCTION_DATE: 2000 10 25
RASTER_ORDER: LEFT_RIGHT/TOP_BOTTOM
BAND_ORGANIZATION: SINGLE FILE
BAND_CONTENT: BLACK&WHITE
BAND_CONTENT: UNDEFINED
BAND_CONTENT: UNDEFINED
BITS_PER_PIXEL: 8
SAMPLES_AND_LINES: 5373 7621
HORIZONTAL_DATUM: NAD83
HORIZONTAL_COORDINATE_SYSTEM: UTM
COORDINATE_ZONE: 12
HORIZONTAL_UNITS: METERS
HORIZONTAL_RESOLUTION: 1.00000
SECONDARY_HORIZONTAL_DATUM: NAD27
XY_ORIGIN: 582543.00000 5386751.00000
SECONDARY_XY_ORIGIN: 582601.68600 5386532.97800
NATION: US
NATION: "SCIENCE
STATE: MT
NW_QUAD_CORNER_XY: 582900.63900 5386380.94100
NE_QUAD_CORNER_XY: 587506.15000 5386450.69400
SE_QUAD_CORNERY_XY: 587614.16000 5379503.54200
SW_QUAD_CORNER_XY: 583002.96300 5379433.77100
SECONDARY_NW_QUAD_XY: 582903.28100 5386161.97400
SECONDARY_NE_QUAD_XY: 587508.93900 5386231.72800
SECONDARY_SE_QUAD_XY: 587616.94900 5379284.58400
SECONDARY_SW_QUAD_XY: 583005.60500 5379214.81000
RMSE_XY: 1.80000
IMAGE_SOURCE: BLACK AND WHITE FILM
SOURCE_IMAGE_ID: NAPP 9128 208
SOURCE_IMAGE_DATE: 1996 07 29
SOURCE_IMAGE_ID: NAPP 9128 209
SOURCE_IMAGE_DATE: 1996 07 29
SOURCE_DEM_DATE: 1993 00 00
AGENCY: WESTERN MAPPING CENTER (WMC)
PRODUCER: UNDEFINED
PRODUCTION_SYSTEM: GIS/MAGIC
COMPRESSION: UNDEFINED
STANDARD_VERSION: 1996 12
METADATA_DATE: 2000 11 09
DATA_FILE_SIZE: 40953006
BYTE_COUNT: 5373
