FILENAME: O4810925.NES.1115132.tif
QUADRANGLE_NAME: FRESNO DAM
QUADRANT: NE
WEST_LONGITUDE: -109 56 15.00000
EAST_LONGITUDE: -109 52 30.00000
NORTH_LATITUDE: 48 37 30.00000
SOUTH_LATITUDE: 48 33 45.00000
PRODUCTION_DATE: 2000 10 25
RASTER_ORDER: LEFT_RIGHT/TOP_BOTTOM
BAND_ORGANIZATION: SINGLE FILE
BAND_CONTENT: BLACK&WHITE
BAND_CONTENT: UNDEFINED
BAND_CONTENT: UNDEFINED
BITS_PER_PIXEL: 8
SAMPLES_AND_LINES: 5367 7617
HORIZONTAL_DATUM: NAD83
HORIZONTAL_COORDINATE_SYSTEM: UTM
COORDINATE_ZONE: 12
HORIZONTAL_UNITS: METERS
HORIZONTAL_RESOLUTION: 1.00000
SECONDARY_HORIZONTAL_DATUM: NAD27
XY_ORIGIN: 577937.00000 5386681.00000
SECONDARY_XY_ORIGIN: 577995.64700 5386463.00700
NATION: US
NATION: "SCIENCE
STATE: MT
NW_QUAD_CORNER_XY: 578295.11600 5386314.96000
NE_QUAD_CORNER_XY: 582900.63900 5386380.94100
SE_QUAD_CORNERY_XY: 583002.96300 5379433.77100
SW_QUAD_CORNER_XY: 578391.75400 5379367.77200
SECONDARY_NW_QUAD_XY: 578297.61100 5386095.99100
SECONDARY_NE_QUAD_XY: 582903.28100 5386161.97400
SECONDARY_SE_QUAD_XY: 583005.60500 5379214.81000
SECONDARY_SW_QUAD_XY: 578394.25000 5379148.80900
RMSE_XY: 1.10000
IMAGE_SOURCE: BLACK AND WHITE FILM
SOURCE_IMAGE_ID: NAPP 9128 237
SOURCE_IMAGE_DATE: 1996 07 29
SOURCE_DEM_DATE: 1993 00 00
AGENCY: WESTERN MAPPING CENTER (WMC)
PRODUCER: UNDEFINED
PRODUCTION_SYSTEM: GIS/MAGIC
COMPRESSION: UNDEFINED
STANDARD_VERSION: 1996 12
METADATA_DATE: 2000 11 08
DATA_FILE_SIZE: 40885806
BYTE_COUNT: 5367
